BEGIN:VCALENDAR
VERSION:2.0
PRODID:-//ChamberMaster//Event Calendar 2.0//EN
METHOD:PUBLISH
X-PUBLISHED-TTL:P3D
REFRESH-INTERVAL:P3D
CALSCALE:GREGORIAN
BEGIN:VEVENT
DTSTART:20220521T163000Z
DTEND:20220521T203000Z
X-MICROSOFT-CDO-ALLDAYEVENT:FALSE
SUMMARY:Andy's Birthday
DESCRIPTION:Come join us for a day of condor-filled fun at the Aviary. You'll be able to see Andy open presents and get some special birthday treats and learn about everything that makes condors and vultures so special.
X-ALT-DESC;FMTTYPE=text/html:<span style="color:#666666\;"><span style="font-family:arial\,sans-serif\;"><span style="font-size:11.0pt\;"><span style="font-variant-numeric:normal\;font-variant-east-asian:normal\;white-space:pre-wrap\;">Come join us for a day of condor-filled fun at the Aviary. You&#39\;ll be able to see Andy open presents and get some special birthday treats and learn about everything that makes condors and vultures so special.</span></span></span></span>
LOCATION:Tracy Aviary & Jordan River Nature Center
UID:e.3258.615
SEQUENCE:3
DTSTAMP:20260422T230704Z
URL:http://business.utahblackchamber.com/events/details/andy-s-birthday-615
END:VEVENT

END:VCALENDAR
