BEGIN:VCALENDAR
VERSION:2.0
PRODID:-//ChamberMaster//Event Calendar 2.0//EN
METHOD:PUBLISH
X-PUBLISHED-TTL:P3D
REFRESH-INTERVAL:P3D
CALSCALE:GREGORIAN
BEGIN:VEVENT
DTSTART:20221018T230000Z
DTEND:20221019T010000Z
X-MICROSOFT-CDO-ALLDAYEVENT:FALSE
SUMMARY:Corporate Tour
DESCRIPTION:
X-ALT-DESC;FMTTYPE=text/html:
LOCATION:Dyno Nobel Inc 6440 South Millrock Drive Suite 150 Salt Lake City\, UT 84121
UID:e.3258.550
SEQUENCE:3
DTSTAMP:20260422T150908Z
URL:http://business.utahblackchamber.com/events/details/corporate-tour-550
END:VEVENT

END:VCALENDAR
