BEGIN:VCALENDAR
VERSION:2.0
PRODID:-//ChamberMaster//Event Calendar 2.0//EN
METHOD:PUBLISH
X-PUBLISHED-TTL:P3D
REFRESH-INTERVAL:P3D
CALSCALE:GREGORIAN
BEGIN:VEVENT
DTSTART:20221221T000000Z
DTEND:20221221T010000Z
X-MICROSOFT-CDO-ALLDAYEVENT:FALSE
SUMMARY:Corporate Tour
DESCRIPTION:
X-ALT-DESC;FMTTYPE=text/html:
LOCATION:Clearlink 5202 West Douglas Corrigan Way Salt Lake City\, UT 84116
UID:e.3258.552
SEQUENCE:3
DTSTAMP:20260422T104209Z
URL:http://business.utahblackchamber.com/events/details/corporate-tour-552
END:VEVENT

END:VCALENDAR
