BEGIN:VCALENDAR
VERSION:2.0
PRODID:-//ChamberMaster//Event Calendar 2.0//EN
METHOD:PUBLISH
X-PUBLISHED-TTL:P3D
REFRESH-INTERVAL:P3D
CALSCALE:GREGORIAN
BEGIN:VEVENT
DTSTART:20210114T190000Z
DTEND:20210114T200000Z
X-MICROSOFT-CDO-ALLDAYEVENT:FALSE
SUMMARY:Legislative Preview- United Way of Salt Lake
DESCRIPTION:January 14\, 12:00 pm - 1:00 pm The 2021 Legislative Preview is going virtual! Watch interviews with Utah's legislative leaders about the top issues that will be discussed during the 2021 session\, and learn how the education\, health\, and financial stability of our families\, neighborhoods\, and communities will be advanced. Join us on YouTube Live on Thursday\, January 14\, 2020\, at 12:00pm to hear from your legislators. Or\, watch the recorded interviews on this webpage afterward. Event is free to attend.
X-ALT-DESC;FMTTYPE=text/html:January 14\, 12:00 pm - 1:00 pm The 2021 Legislative Preview is going virtual! Watch interviews with Utah&#39\;s legislative leaders about the top issues that will be discussed during the 2021 session\, and learn how the education\, health\, and financial stability of our families\, neighborhoods\, and communities will be advanced. Join us on YouTube Live on Thursday\, January 14\, 2020\, at 12:00pm to hear from your legislators. Or\, watch the recorded interviews on this webpage afterward. Event is free to attend.
LOCATION:https://www.youtube.com/watch?v=cP0UAXgOdNs
UID:e.3258.503
SEQUENCE:3
DTSTAMP:20260425T200504Z
URL:http://business.utahblackchamber.com/events/details/legislative-preview-united-way-of-salt-lake-503
END:VEVENT

END:VCALENDAR
