BEGIN:VCALENDAR
VERSION:2.0
PRODID:-//ChamberMaster//Event Calendar 2.0//EN
METHOD:PUBLISH
X-PUBLISHED-TTL:P3D
REFRESH-INTERVAL:P3D
CALSCALE:GREGORIAN
BEGIN:VEVENT
DTSTART:20220516T000000Z
DTEND:20220516T010000Z
X-MICROSOFT-CDO-ALLDAYEVENT:FALSE
SUMMARY:Soul 2 Soul SLC
DESCRIPTION:
X-ALT-DESC;FMTTYPE=text/html:
LOCATION:The Shop
UID:e.3258.626
SEQUENCE:3
DTSTAMP:20260422T230827Z
URL:http://business.utahblackchamber.com/events/details/soul-2-soul-slc-626
END:VEVENT

END:VCALENDAR
