BEGIN:VCALENDAR
VERSION:2.0
PRODID:-//ChamberMaster//Event Calendar 2.0//EN
METHOD:PUBLISH
X-PUBLISHED-TTL:P3D
REFRESH-INTERVAL:P3D
CALSCALE:GREGORIAN
BEGIN:VEVENT
DTSTART:20220514T160000Z
DTEND:20220515T210000Z
X-MICROSOFT-CDO-ALLDAYEVENT:FALSE
SUMMARY:Urban Bird Festival
DESCRIPTION:Join the Aviary on World Migratory Bird Day for a weekend-long celebration of the connection between nature and the city at our Liberty Park campus. Featuring activities with community partners\, bird care staff talks\, and learning while exploring the birds and surrounding nature we love. Event included with price of admission.\n\nSchedule:\n\n Saturday\, 10:00 a.m.-3:00 p.m.\n\n    Games on Kea Lawn\n\n  Saturday\, 10:00 a.m.-11:00 a.m.\n\n     "What's Blooming?" Tour\, Plants and Their Bird Friends\n\n  Saturday\, 11:00 a.m.-12:00 p.m.\n\n      Bird Care Staff Talk\, Owl Forest\n\n Saturday\, 1:30 p.m.-2:30 p.m.\n\n      Bird Care Staff Talk\, Sandhill Cranes \n\n \n\nSunday\, 10:00 a.m.-3:00 p.m.\n\n    Games on Kea Lawn\n\n  Sunday\, 10:00 a.m.-11:00 a.m.\n\n     "What's Blooming? Tour\, Plants and Their Bird Friends\n\n  Sunday\, 11:00 a.m.-12:00 p.m.\n\n      Bird Care Staff Talk\, Turkey Vulture and Hawks\n\n  Sunday\, 1:30 p.m.-2:30 p.m.\n\n      Bird Care Staff Talk\, Trumpeter Swans
X-ALT-DESC;FMTTYPE=text/html:<p style="box-sizing: inherit\; margin: 0px 0px 15px\; line-height: 1.68em\; color: rgb(77\, 77\, 77)\; font-family: AvenirLTPro-Light\; font-size: 17px\;">Join the Aviary on World Migratory Bird Day for a weekend-long celebration of the connection between nature and the city at our Liberty Park campus. Featuring activities with community partners\, bird care staff talks\, and learning while exploring the birds and surrounding nature we love. Event included with price of admission.</p>\n\n<p style="box-sizing: inherit\; margin: 0px 0px 15px\; line-height: 1.68em\; color: rgb(77\, 77\, 77)\; font-family: AvenirLTPro-Light\; font-size: 17px\;"><span style="box-sizing: inherit\; font-family: inherit\; caret-color: auto\;">Schedule:</span></p>\n\n<p style="box-sizing: inherit\; margin: 0px 0px 15px\; line-height: 1.68em\; color: rgb(77\, 77\, 77)\; font-family: AvenirLTPro-Light\; font-size: 17px\;"><span style="box-sizing: inherit\; font-family: inherit\; caret-color: auto\;">&nbsp\;Saturday\, 10:00 a.m.-3:00 p.m.</span></p>\n\n<p style="box-sizing: inherit\; margin: 0px 0px 15px\; line-height: 1.68em\; color: rgb(77\, 77\, 77)\; font-family: AvenirLTPro-Light\; font-size: 17px\;">&nbsp\; &nbsp\; Games on Kea Lawn</p>\n\n<p style="box-sizing: inherit\; margin: 0px 0px 15px\; line-height: 1.68em\; color: rgb(77\, 77\, 77)\; font-family: AvenirLTPro-Light\; font-size: 17px\;">&nbsp\; Saturday\, 10:00 a.m.-11:00 a.m.</p>\n\n<p style="box-sizing: inherit\; margin: 0px 0px 15px\; line-height: 1.68em\; color: rgb(77\, 77\, 77)\; font-family: AvenirLTPro-Light\; font-size: 17px\;">&nbsp\; &nbsp\; &nbsp\;&quot\;What&#39\;s Blooming?&quot\; Tour\, Plants and Their Bird Friends</p>\n\n<p style="box-sizing: inherit\; margin: 0px 0px 15px\; line-height: 1.68em\; color: rgb(77\, 77\, 77)\; font-family: AvenirLTPro-Light\; font-size: 17px\;">&nbsp\;&nbsp\;Saturday\, 11:00 a.m.-12:00 p.m.</p>\n\n<p style="box-sizing: inherit\; margin: 0px 0px 15px\; line-height: 1.68em\; color: rgb(77\, 77\, 77)\; font-family: AvenirLTPro-Light\; font-size: 17px\;">&nbsp\; &nbsp\; &nbsp\; Bird Care Staff Talk\, Owl Forest</p>\n\n<p style="box-sizing: inherit\; margin: 0px 0px 15px\; line-height: 1.68em\; color: rgb(77\, 77\, 77)\; font-family: AvenirLTPro-Light\; font-size: 17px\;">&nbsp\;Saturday\, 1:30 p.m.-2:30 p.m.</p>\n\n<p style="box-sizing: inherit\; margin: 0px 0px 15px\; line-height: 1.68em\; color: rgb(77\, 77\, 77)\; font-family: AvenirLTPro-Light\; font-size: 17px\;">&nbsp\; &nbsp\; &nbsp\; Bird Care Staff Talk\, Sandhill Cranes&nbsp\;</p>\n\n<p style="box-sizing: inherit\; margin: 0px 0px 15px\; line-height: 1.68em\; color: rgb(77\, 77\, 77)\; font-family: AvenirLTPro-Light\; font-size: 17px\;">&nbsp\;</p>\n\n<p style="box-sizing: inherit\; margin: 0px 0px 15px\; line-height: 1.68em\; color: rgb(77\, 77\, 77)\; font-family: AvenirLTPro-Light\; font-size: 17px\;">Sunday\, 10:00 a.m.-3:00 p.m.</p>\n\n<p style="box-sizing: inherit\; margin: 0px 0px 15px\; line-height: 1.68em\; color: rgb(77\, 77\, 77)\; font-family: AvenirLTPro-Light\; font-size: 17px\;">&nbsp\; &nbsp\; Games on Kea Lawn</p>\n\n<p style="box-sizing: inherit\; margin: 0px 0px 15px\; line-height: 1.68em\; color: rgb(77\, 77\, 77)\; font-family: AvenirLTPro-Light\; font-size: 17px\;">&nbsp\; Sunday\, 10:00 a.m.-11:00 a.m.</p>\n\n<p style="box-sizing: inherit\; margin: 0px 0px 15px\; line-height: 1.68em\; color: rgb(77\, 77\, 77)\; font-family: AvenirLTPro-Light\; font-size: 17px\;">&nbsp\; &nbsp\; &nbsp\;&quot\;What&#39\;s Blooming? Tour\, Plants and Their Bird Friends</p>\n\n<p style="box-sizing: inherit\; margin: 0px 0px 15px\; line-height: 1.68em\; color: rgb(77\, 77\, 77)\; font-family: AvenirLTPro-Light\; font-size: 17px\;">&nbsp\;&nbsp\;Sunday\, 11:00 a.m.-12:00 p.m.</p>\n\n<p style="box-sizing: inherit\; margin: 0px 0px 15px\; line-height: 1.68em\; color: rgb(77\, 77\, 77)\; font-family: AvenirLTPro-Light\; font-size: 17px\;">&nbsp\; &nbsp\; &nbsp\; Bird Care Staff Talk\, Turkey Vulture and Hawks</p>\n\n<p style="box-sizing: inherit\; margin: 0px 0px 15px\; line-height: 1.68em\; color: rgb(77\, 77\, 77)\; font-family: AvenirLTPro-Light\; font-size: 17px\;">&nbsp\; Sunday\, 1:30 p.m.-2:30 p.m.</p>\n\n<p style="box-sizing: inherit\; margin: 0px 0px 15px\; line-height: 1.68em\; color: rgb(77\, 77\, 77)\; font-family: AvenirLTPro-Light\; font-size: 17px\;">&nbsp\; &nbsp\; &nbsp\; Bird Care Staff Talk\, Trumpeter Swans</p>\n
LOCATION:Tracy Aviary & Jordan River Nature Center
UID:e.3258.614
SEQUENCE:3
DTSTAMP:20260422T230957Z
URL:http://business.utahblackchamber.com/events/details/urban-bird-festival-614
END:VEVENT

END:VCALENDAR
