BEGIN:VCALENDAR
VERSION:2.0
PRODID:-//ChamberMaster//Event Calendar 2.0//EN
METHOD:PUBLISH
X-PUBLISHED-TTL:P3D
REFRESH-INTERVAL:P3D
CALSCALE:GREGORIAN
BEGIN:VEVENT
DTSTART;VALUE=DATE:20210203
DTEND;VALUE=DATE:20210215
TRANSP:TRANSPARENT
X-MICROSOFT-CDO-ALLDAYEVENT:TRUE
SUMMARY:Valentine's Day Virtual Cokctial Class
DESCRIPTION:We are offering a virtual Valentine's Day craft cocktail class! Whether you are celebrating with someone you like/love or alone\, join us for a cocktail class taught by the incomparable @melinated.mixologist\n\n\n\nGet your tickets today. Go to   https://www.thehammeredcopper.com/.../valentines-day...\n\n\n\n#mixology #bartender #cocktail #valentinesday #mixologist #shoplocal #loveyourlocal #localfirstutah #craftcocktails
X-ALT-DESC;FMTTYPE=text/html:&nbsp\;\n<div>\n<div>We are offering a virtual Valentine&#39\;s Day craft cocktail class! Whether you are celebrating with someone you like/love or alone\, join us for a cocktail class taught by the incomparable @melinated.mixologist</div>\n</div>\n\n<div>\n<div>Get your tickets today. Go to &gt\;&gt\;<span style="font-family:inherit"><a class="oajrlxb2 g5ia77u1 qu0x051f esr5mh6w e9989ue4 r7d6kgcz rq0escxv nhd2j8a9 nc684nl6 p7hjln8o kvgmc6g5 cxmmr5t8 oygrvhab hcukyx3x jb3vyjys rz4wbd8a qt6c0cv9 a8nywdso i1ao9s8h esuyzwwr f1sip0of lzcic4wl py34i1dx gpro0wi8" href="https://www.thehammeredcopper.com/event-details/valentines-day-cocktails?fbclid=IwAR2k3rLDa4gq33bkE51lwc68PcdvkO2wgZtRUVl0CvGJYrTfadwKy-qVIp8" rel="nofollow noopener" style="color: var(--blue-link)\; cursor: pointer\; text-decoration-line: none\; outline: none\; list-style: none\; border-width: 0px\; border-style: initial\; border-color: initial\; padding: 0px\; margin: 0px\; touch-action: manipulation\; background-color: transparent\; text-align: inherit\; display: inline\; -webkit-tap-highlight-color: transparent\; box-sizing: border-box\; font-family: inherit\;" tabindex="0" target="_blank">https://www.thehammeredcopper.com/.../valentines-day...</a></span></div>\n</div>\n\n<div>\n<div><span style="font-family:inherit"><a class="oajrlxb2 g5ia77u1 qu0x051f esr5mh6w e9989ue4 r7d6kgcz rq0escxv nhd2j8a9 nc684nl6 p7hjln8o kvgmc6g5 cxmmr5t8 oygrvhab hcukyx3x jb3vyjys rz4wbd8a qt6c0cv9 a8nywdso i1ao9s8h esuyzwwr f1sip0of lzcic4wl q66pz984 gpro0wi8 b1v8xokw" href="https://www.facebook.com/hashtag/mixology?__eep__=6&amp\;__cft__[0]=AZWDVEqFlXBlzBambKtnygh34S9qSVR6apvQ_XdvIFT1K_grDfEU8VFqrxDXIBJOeW5wpXcmRs_4VmUAYHL3sDcJ5WIwGkfU4sE0FPj-nNzf91iV1s5D91iCRA7EBEjs8RAITNbNmYZgM52o2Y4Av_bWfDVklaKg4UnjiWpuyCgJrbWgbJ6ypC21duLp9vhwOyM&amp\;__tn__=*NK-R" style="color: var(--accent)\; cursor: pointer\; text-decoration-line: none\; outline: none\; list-style: none\; border-width: 0px\; border-style: initial\; border-color: initial\; padding: 0px\; margin: 0px\; touch-action: manipulation\; background-color: transparent\; text-align: inherit\; display: inline\; -webkit-tap-highlight-color: transparent\; box-sizing: border-box\; font-family: inherit\;" tabindex="0">#mixology</a></span> <span style="font-family:inherit"><a class="oajrlxb2 g5ia77u1 qu0x051f esr5mh6w e9989ue4 r7d6kgcz rq0escxv nhd2j8a9 nc684nl6 p7hjln8o kvgmc6g5 cxmmr5t8 oygrvhab hcukyx3x jb3vyjys rz4wbd8a qt6c0cv9 a8nywdso i1ao9s8h esuyzwwr f1sip0of lzcic4wl q66pz984 gpro0wi8 b1v8xokw" href="https://www.facebook.com/hashtag/bartender?__eep__=6&amp\;__cft__[0]=AZWDVEqFlXBlzBambKtnygh34S9qSVR6apvQ_XdvIFT1K_grDfEU8VFqrxDXIBJOeW5wpXcmRs_4VmUAYHL3sDcJ5WIwGkfU4sE0FPj-nNzf91iV1s5D91iCRA7EBEjs8RAITNbNmYZgM52o2Y4Av_bWfDVklaKg4UnjiWpuyCgJrbWgbJ6ypC21duLp9vhwOyM&amp\;__tn__=*NK-R" style="color: var(--accent)\; cursor: pointer\; text-decoration-line: none\; outline: none\; list-style: none\; border-width: 0px\; border-style: initial\; border-color: initial\; padding: 0px\; margin: 0px\; touch-action: manipulation\; background-color: transparent\; text-align: inherit\; display: inline\; -webkit-tap-highlight-color: transparent\; box-sizing: border-box\; font-family: inherit\;" tabindex="0">#bartender</a></span> <span style="font-family:inherit"><a class="oajrlxb2 g5ia77u1 qu0x051f esr5mh6w e9989ue4 r7d6kgcz rq0escxv nhd2j8a9 nc684nl6 p7hjln8o kvgmc6g5 cxmmr5t8 oygrvhab hcukyx3x jb3vyjys rz4wbd8a qt6c0cv9 a8nywdso i1ao9s8h esuyzwwr f1sip0of lzcic4wl q66pz984 gpro0wi8 b1v8xokw" href="https://www.facebook.com/hashtag/cocktail?__eep__=6&amp\;__cft__[0]=AZWDVEqFlXBlzBambKtnygh34S9qSVR6apvQ_XdvIFT1K_grDfEU8VFqrxDXIBJOeW5wpXcmRs_4VmUAYHL3sDcJ5WIwGkfU4sE0FPj-nNzf91iV1s5D91iCRA7EBEjs8RAITNbNmYZgM52o2Y4Av_bWfDVklaKg4UnjiWpuyCgJrbWgbJ6ypC21duLp9vhwOyM&amp\;__tn__=*NK-R" style="color: var(--accent)\; cursor: pointer\; text-decoration-line: none\; outline: none\; list-style: none\; border-width: 0px\; border-style: initial\; border-color: initial\; padding: 0px\; margin: 0px\; touch-action: manipulation\; background-color: transparent\; text-align: inherit\; display: inline\; -webkit-tap-highlight-color: transparent\; box-sizing: border-box\; font-family: inherit\;" tabindex="0">#cocktail</a></span> <span style="font-family:inherit"><a class="oajrlxb2 g5ia77u1 qu0x051f esr5mh6w e9989ue4 r7d6kgcz rq0escxv nhd2j8a9 nc684nl6 p7hjln8o kvgmc6g5 cxmmr5t8 oygrvhab hcukyx3x jb3vyjys rz4wbd8a qt6c0cv9 a8nywdso i1ao9s8h esuyzwwr f1sip0of lzcic4wl q66pz984 gpro0wi8 b1v8xokw" href="https://www.facebook.com/hashtag/valentinesday?__eep__=6&amp\;__cft__[0]=AZWDVEqFlXBlzBambKtnygh34S9qSVR6apvQ_XdvIFT1K_grDfEU8VFqrxDXIBJOeW5wpXcmRs_4VmUAYHL3sDcJ5WIwGkfU4sE0FPj-nNzf91iV1s5D91iCRA7EBEjs8RAITNbNmYZgM52o2Y4Av_bWfDVklaKg4UnjiWpuyCgJrbWgbJ6ypC21duLp9vhwOyM&amp\;__tn__=*NK-R" style="color: var(--accent)\; cursor: pointer\; text-decoration-line: none\; outline: none\; list-style: none\; border-width: 0px\; border-style: initial\; border-color: initial\; padding: 0px\; margin: 0px\; touch-action: manipulation\; background-color: transparent\; text-align: inherit\; display: inline\; -webkit-tap-highlight-color: transparent\; box-sizing: border-box\; font-family: inherit\;" tabindex="0">#valentinesday</a></span> <span style="font-family:inherit"><a class="oajrlxb2 g5ia77u1 qu0x051f esr5mh6w e9989ue4 r7d6kgcz rq0escxv nhd2j8a9 nc684nl6 p7hjln8o kvgmc6g5 cxmmr5t8 oygrvhab hcukyx3x jb3vyjys rz4wbd8a qt6c0cv9 a8nywdso i1ao9s8h esuyzwwr f1sip0of lzcic4wl q66pz984 gpro0wi8 b1v8xokw" href="https://www.facebook.com/hashtag/mixologist?__eep__=6&amp\;__cft__[0]=AZWDVEqFlXBlzBambKtnygh34S9qSVR6apvQ_XdvIFT1K_grDfEU8VFqrxDXIBJOeW5wpXcmRs_4VmUAYHL3sDcJ5WIwGkfU4sE0FPj-nNzf91iV1s5D91iCRA7EBEjs8RAITNbNmYZgM52o2Y4Av_bWfDVklaKg4UnjiWpuyCgJrbWgbJ6ypC21duLp9vhwOyM&amp\;__tn__=*NK-R" style="color: var(--accent)\; cursor: pointer\; text-decoration-line: none\; outline: none\; list-style: none\; border-width: 0px\; border-style: initial\; border-color: initial\; padding: 0px\; margin: 0px\; touch-action: manipulation\; background-color: transparent\; text-align: inherit\; display: inline\; -webkit-tap-highlight-color: transparent\; box-sizing: border-box\; font-family: inherit\;" tabindex="0">#mixologist</a></span> <span style="font-family:inherit"><a class="oajrlxb2 g5ia77u1 qu0x051f esr5mh6w e9989ue4 r7d6kgcz rq0escxv nhd2j8a9 nc684nl6 p7hjln8o kvgmc6g5 cxmmr5t8 oygrvhab hcukyx3x jb3vyjys rz4wbd8a qt6c0cv9 a8nywdso i1ao9s8h esuyzwwr f1sip0of lzcic4wl q66pz984 gpro0wi8 b1v8xokw" href="https://www.facebook.com/hashtag/shoplocal?__eep__=6&amp\;__cft__[0]=AZWDVEqFlXBlzBambKtnygh34S9qSVR6apvQ_XdvIFT1K_grDfEU8VFqrxDXIBJOeW5wpXcmRs_4VmUAYHL3sDcJ5WIwGkfU4sE0FPj-nNzf91iV1s5D91iCRA7EBEjs8RAITNbNmYZgM52o2Y4Av_bWfDVklaKg4UnjiWpuyCgJrbWgbJ6ypC21duLp9vhwOyM&amp\;__tn__=*NK-R" style="color: var(--accent)\; cursor: pointer\; text-decoration-line: none\; outline: none\; list-style: none\; border-width: 0px\; border-style: initial\; border-color: initial\; padding: 0px\; margin: 0px\; touch-action: manipulation\; background-color: transparent\; text-align: inherit\; display: inline\; -webkit-tap-highlight-color: transparent\; box-sizing: border-box\; font-family: inherit\;" tabindex="0">#shoplocal</a></span> <span style="font-family:inherit"><a class="oajrlxb2 g5ia77u1 qu0x051f esr5mh6w e9989ue4 r7d6kgcz rq0escxv nhd2j8a9 nc684nl6 p7hjln8o kvgmc6g5 cxmmr5t8 oygrvhab hcukyx3x jb3vyjys rz4wbd8a qt6c0cv9 a8nywdso i1ao9s8h esuyzwwr f1sip0of lzcic4wl q66pz984 gpro0wi8 b1v8xokw" href="https://www.facebook.com/hashtag/loveyourlocal?__eep__=6&amp\;__cft__[0]=AZWDVEqFlXBlzBambKtnygh34S9qSVR6apvQ_XdvIFT1K_grDfEU8VFqrxDXIBJOeW5wpXcmRs_4VmUAYHL3sDcJ5WIwGkfU4sE0FPj-nNzf91iV1s5D91iCRA7EBEjs8RAITNbNmYZgM52o2Y4Av_bWfDVklaKg4UnjiWpuyCgJrbWgbJ6ypC21duLp9vhwOyM&amp\;__tn__=*NK-R" style="color: var(--accent)\; cursor: pointer\; text-decoration-line: none\; outline: none\; list-style: none\; border-width: 0px\; border-style: initial\; border-color: initial\; padding: 0px\; margin: 0px\; touch-action: manipulation\; background-color: transparent\; text-align: inherit\; display: inline\; -webkit-tap-highlight-color: transparent\; box-sizing: border-box\; font-family: inherit\;" tabindex="0">#loveyourlocal</a></span> <span style="font-family:inherit"><a class="oajrlxb2 g5ia77u1 qu0x051f esr5mh6w e9989ue4 r7d6kgcz rq0escxv nhd2j8a9 nc684nl6 p7hjln8o kvgmc6g5 cxmmr5t8 oygrvhab hcukyx3x jb3vyjys rz4wbd8a qt6c0cv9 a8nywdso i1ao9s8h esuyzwwr f1sip0of lzcic4wl q66pz984 gpro0wi8 b1v8xokw" href="https://www.facebook.com/hashtag/localfirstutah?__eep__=6&amp\;__cft__[0]=AZWDVEqFlXBlzBambKtnygh34S9qSVR6apvQ_XdvIFT1K_grDfEU8VFqrxDXIBJOeW5wpXcmRs_4VmUAYHL3sDcJ5WIwGkfU4sE0FPj-nNzf91iV1s5D91iCRA7EBEjs8RAITNbNmYZgM52o2Y4Av_bWfDVklaKg4UnjiWpuyCgJrbWgbJ6ypC21duLp9vhwOyM&amp\;__tn__=*NK-R" style="color: var(--accent)\; cursor: pointer\; text-decoration-line: none\; outline: none\; list-style: none\; border-width: 0px\; border-style: initial\; border-color: initial\; padding: 0px\; margin: 0px\; touch-action: manipulation\; background-color: transparent\; text-align: inherit\; display: inline\; -webkit-tap-highlight-color: transparent\; box-sizing: border-box\; font-family: inherit\;" tabindex="0">#localfirstutah</a></span> <span style="font-family:inherit"><a class="oajrlxb2 g5ia77u1 qu0x051f esr5mh6w e9989ue4 r7d6kgcz rq0escxv nhd2j8a9 nc684nl6 p7hjln8o kvgmc6g5 cxmmr5t8 oygrvhab hcukyx3x jb3vyjys rz4wbd8a qt6c0cv9 a8nywdso i1ao9s8h esuyzwwr f1sip0of lzcic4wl q66pz984 gpro0wi8 b1v8xokw" href="https://www.facebook.com/hashtag/craftcocktails?__eep__=6&amp\;__cft__[0]=AZWDVEqFlXBlzBambKtnygh34S9qSVR6apvQ_XdvIFT1K_grDfEU8VFqrxDXIBJOeW5wpXcmRs_4VmUAYHL3sDcJ5WIwGkfU4sE0FPj-nNzf91iV1s5D91iCRA7EBEjs8RAITNbNmYZgM52o2Y4Av_bWfDVklaKg4UnjiWpuyCgJrbWgbJ6ypC21duLp9vhwOyM&amp\;__tn__=*NK-R" style="color: var(--accent)\; cursor: pointer\; text-decoration-line: none\; outline: none\; list-style: none\; border-width: 0px\; border-style: initial\; border-color: initial\; padding: 0px\; margin: 0px\; touch-action: manipulation\; background-color: transparent\; text-align: inherit\; display: inline\; -webkit-tap-highlight-color: transparent\; box-sizing: border-box\; font-family: inherit\;" tabindex="0">#craftcocktails</a></span></div>\n</div>\n
LOCATION:Via Zoom
UID:e.3258.506
SEQUENCE:3
DTSTAMP:20260425T145328Z
URL:http://business.utahblackchamber.com/events/details/valentine-s-day-virtual-cokctial-class-506
END:VEVENT

END:VCALENDAR
