BEGIN:VCALENDAR
VERSION:2.0
PRODID:-//ChamberMaster//Event Calendar 2.0//EN
METHOD:PUBLISH
X-PUBLISHED-TTL:P3D
REFRESH-INTERVAL:P3D
CALSCALE:GREGORIAN
BEGIN:VEVENT
DTSTART:20221012T220000Z
DTEND:20221012T230000Z
X-MICROSOFT-CDO-ALLDAYEVENT:FALSE
SUMMARY:Venture Capital Collab
DESCRIPTION:
X-ALT-DESC;FMTTYPE=text/html:
LOCATION:The Shop 350 East 400 South Salt Lake City\, UT 84111
UID:e.3258.558
SEQUENCE:3
DTSTAMP:20260422T144112Z
URL:http://business.utahblackchamber.com/events/details/venture-capital-collab-558
END:VEVENT

END:VCALENDAR
