BEGIN:VCALENDAR
VERSION:2.0
PRODID:-//ChamberMaster//Event Calendar 2.0//EN
METHOD:PUBLISH
X-PUBLISHED-TTL:P3D
REFRESH-INTERVAL:P3D
CALSCALE:GREGORIAN
BEGIN:VEVENT
DTSTART:20230202T013000Z
DTEND:20230202T030000Z
X-MICROSOFT-CDO-ALLDAYEVENT:FALSE
SUMMARY:Westminster 2023 Martin Luther King Jr. Keynote: "Bodies on the Line"
DESCRIPTION:About the MLK Celebration Week Westminster College's evolving efforts to honor Dr. Martin Luther King Jr. are anchored in his powerful words: "Intelligence plus character that is the goal of true education." Intelligence and character are pillars of a Westminster education and experience. They are embedded in Westminster's college-wide learning goals\, Diversity Statement\, and our commitment to inclusivity. Each January\, Westminster holds a week of events celebrating Dr. Martin Luther King Jr.'s legacy that provides opportunities to connect and have conversations about diversity\, community\, and engagement. 2022-2023 Theme The theme for the 2022-2023 Bastian Foundation Diversity Lecture Series is a continuation of the previous year's theme: "The Counterstory: How Policy Responds to Identity." This theme\, which grew organically from the amplified debate about the realities of the intensified civil and social unrest exacerbated by the COVID-19 global pandemic\, has been extended for another year. This theme seeks to provoke deep self-reflection of how one considers the lived experiences of others\, how those differences impact others' well-being\, and how one can contribute to tangible social change. The theme for the 2023 Martin Luther King Jr Celebration Week will focus on the idea of "Bodies on the Line"\, relating to movement of the body as a form of both protest against systems and structures of social\, cultural\, and political power and a form of mental health\, wellness\, and healing.
X-ALT-DESC;FMTTYPE=text/html:About the MLK Celebration Week Westminster College&rsquo\;s evolving efforts to honor Dr. Martin Luther King Jr. are anchored in his powerful words: &ldquo\;Intelligence plus character&mdash\;that is the goal of true education.&rdquo\; Intelligence and character are pillars of a Westminster education and experience. They are embedded in Westminster&rsquo\;s college-wide learning goals\, Diversity Statement\, and our commitment to inclusivity. Each January\, Westminster holds a week of events celebrating Dr. Martin Luther King Jr.&rsquo\;s legacy that provides opportunities to connect and have conversations about diversity\, community\, and engagement. 2022-2023 Theme The theme for the 2022-2023 Bastian Foundation Diversity Lecture Series is a continuation of the previous year&#39\;s theme: &ldquo\;The Counterstory: How Policy Responds to Identity.&rdquo\; This theme\, which grew organically from the amplified debate about the realities of the intensified civil and social unrest exacerbated by the COVID-19 global pandemic\, has been extended for another year. This theme seeks to provoke deep self-reflection of how one considers the lived experiences of others\, how those differences impact others&rsquo\; well-being\, and how one can contribute to tangible social change. The theme for the 2023 Martin Luther King Jr Celebration Week will focus on the idea of &quot\;Bodies on the Line&quot\;\, relating to movement of the body as a form of both protest against systems and structures of social\, cultural\, and political power and a form of mental health\, wellness\, and healing.
LOCATION:Westminster College | Jewett Center for the Performing Arts 1840 1300 East Salt Lake City\, UT 84105
UID:e.3258.712
SEQUENCE:3
DTSTAMP:20260422T180712Z
URL:http://business.utahblackchamber.com/events/details/westminster-2023-martin-luther-king-jr-keynote-bodies-on-the-line-712
END:VEVENT

END:VCALENDAR
