BEGIN:VCALENDAR
VERSION:2.0
PRODID:-//ChamberMaster//Event Calendar 2.0//EN
METHOD:PUBLISH
X-PUBLISHED-TTL:P3D
REFRESH-INTERVAL:P3D
CALSCALE:GREGORIAN
BEGIN:VEVENT
DTSTART:20241026T003000Z
DTEND:20241026T023000Z
X-MICROSOFT-CDO-ALLDAYEVENT:FALSE
SUMMARY:Be A CEO Pitch Competition!
DESCRIPTION:We're excited to share that 11 students from the Utah Black Student Union Alliance and across the valley are participating in the Be A CEO (BCEO) 12-week program\, where they are stepping into their roles as the next generation of entrepreneurs!\n\nThese driven young CEOs are gaining invaluable knowledge from entrepreneurs and leaders within the Utah Black Chamber\, mastering critical skills like budgeting\, branding\, networking\, and pitching their business ideas.\n\n \n\nAnd the excitement doesn't stop there! Our students will pitch their businesses to a panel of business leaders and executives\, competing for a $2\,000 Grand Prize and an exclusive opportunity to pitch at the PROG Development Center Shark Tank Competition. Second place will receive $1\,700\, and third place will take home $1\,300 all awarded as investments in our talented Black students to help turn their business dreams into reality.\n\n \n\nBy the end of the program\, these young entrepreneurs will have developed comprehensive business plans\, secured vital resources\, and laid the foundation for their success.\n\n \n\nWe're especially grateful to our Chamber Members who serve as dedicated mentors\, generously investing their time and expertise every Saturday to work with the next generation of entrepreneurs. This program simply wouldn't be possible without their commitment.
X-ALT-DESC;FMTTYPE=text/html:<p style="margin: 0px\; padding: 0px\; word-break: break-word\; color: rgb(0\, 0\, 0)\; font-family: &quot\;Helvetica Neue&quot\;\, Helvetica\, Arial\, Verdana\, sans-serif\; font-size: 16px\; line-height: 24px\; direction: ltr\;">We&rsquo\;re excited to share that 11 students from the&nbsp\;Utah&nbsp\;Black&nbsp\;Student Union Alliance and across the valley are participating in the&nbsp\;<strong>Be A CEO (BCEO)&nbsp\;</strong>12-week program\, where they are stepping into their roles as the next generation of entrepreneurs!</p>\n\n<p style="margin: 0px\; padding: 0px\; word-break: break-word\; color: rgb(0\, 0\, 0)\; font-family: &quot\;Helvetica Neue&quot\;\, Helvetica\, Arial\, Verdana\, sans-serif\; font-size: 16px\; line-height: 24px\; direction: ltr\;">These driven young CEOs are gaining invaluable knowledge from entrepreneurs and leaders within the&nbsp\;Utah&nbsp\;Black&nbsp\;Chamber\, mastering critical skills like budgeting\, branding\, networking\, and pitching their business ideas.</p>\n\n<p style="margin: 0px\; padding: 0px\; word-break: break-word\; color: rgb(0\, 0\, 0)\; font-family: &quot\;Helvetica Neue&quot\;\, Helvetica\, Arial\, Verdana\, sans-serif\; font-size: 16px\; line-height: 24px\; direction: ltr\;">&nbsp\;</p>\n\n<p style="margin: 0px\; padding: 0px\; word-break: break-word\; color: rgb(0\, 0\, 0)\; font-family: &quot\;Helvetica Neue&quot\;\, Helvetica\, Arial\, Verdana\, sans-serif\; font-size: 16px\; line-height: 24px\; direction: ltr\;">And the excitement doesn&#39\;t stop there! Our students will pitch their businesses to a panel of business leaders and executives\, competing for a&nbsp\;<strong>$2\,000 Grand Prize</strong>&nbsp\;and an exclusive opportunity to pitch at the&nbsp\;<strong>PROG Development Center Shark Tank Competition.</strong>&nbsp\;Second place will receive&nbsp\;<strong>$1\,700\,</strong>&nbsp\;and third place will take home<strong>&nbsp\;$1\,300</strong>&mdash\;all awarded as investments in our talented&nbsp\;Black&nbsp\;students to help turn their business dreams into reality.</p>\n\n<p style="margin: 0px\; padding: 0px\; word-break: break-word\; color: rgb(0\, 0\, 0)\; font-family: &quot\;Helvetica Neue&quot\;\, Helvetica\, Arial\, Verdana\, sans-serif\; font-size: 16px\; line-height: 24px\; direction: ltr\;">&nbsp\;</p>\n\n<p style="margin: 0px\; padding: 0px\; word-break: break-word\; color: rgb(0\, 0\, 0)\; font-family: &quot\;Helvetica Neue&quot\;\, Helvetica\, Arial\, Verdana\, sans-serif\; font-size: 16px\; line-height: 24px\; direction: ltr\;">By the end of the program\, these young entrepreneurs will have developed comprehensive business plans\, secured vital resources\, and laid the foundation for their success.</p>\n\n<p style="margin: 0px\; padding: 0px\; word-break: break-word\; color: rgb(0\, 0\, 0)\; font-family: &quot\;Helvetica Neue&quot\;\, Helvetica\, Arial\, Verdana\, sans-serif\; font-size: 16px\; line-height: 24px\; direction: ltr\;">&nbsp\;</p>\n\n<p style="margin: 0px\; padding: 0px\; word-break: break-word\; color: rgb(0\, 0\, 0)\; font-family: &quot\;Helvetica Neue&quot\;\, Helvetica\, Arial\, Verdana\, sans-serif\; font-size: 16px\; line-height: 24px\; direction: ltr\;">We&#39\;re especially grateful to our&nbsp\;<strong>Chamber Members</strong>&nbsp\;who serve as dedicated mentors\, generously investing their time and expertise every Saturday to work with the next generation of entrepreneurs. This program simply wouldn&#39\;t be possible without their commitment.</p>\n
LOCATION:2875 Decker Lake Dr. West Valley City\, UT\, 84419 RSVP to eddythompson1014@gmail.com
UID:e.3258.817
SEQUENCE:3
DTSTAMP:20260424T184237Z
URL:https://business.utahblackchamber.com/events/details/be-a-ceo-pitch-competition-817
END:VEVENT

END:VCALENDAR
