BEGIN:VCALENDAR
VERSION:2.0
PRODID:-//ChamberMaster//Event Calendar 2.0//EN
METHOD:PUBLISH
X-PUBLISHED-TTL:P3D
REFRESH-INTERVAL:P3D
CALSCALE:GREGORIAN
BEGIN:VEVENT
DTSTART:20241122T010000Z
DTEND:20241122T030000Z
X-MICROSOFT-CDO-ALLDAYEVENT:FALSE
SUMMARY:Black Men's Mental Health Forum
DESCRIPTION:
X-ALT-DESC;FMTTYPE=text/html:
LOCATION:
UID:e.3258.826
SEQUENCE:3
DTSTAMP:20260424T194720Z
URL:https://business.utahblackchamber.com/events/details/black-men-s-mental-health-forum-826
END:VEVENT

END:VCALENDAR
