BEGIN:VCALENDAR
VERSION:2.0
PRODID:-//ChamberMaster//Event Calendar 2.0//EN
METHOD:PUBLISH
X-PUBLISHED-TTL:P3D
REFRESH-INTERVAL:P3D
CALSCALE:GREGORIAN
BEGIN:VEVENT
DTSTART:20241115T010000Z
DTEND:20241115T030000Z
X-MICROSOFT-CDO-ALLDAYEVENT:FALSE
SUMMARY:Black Women's Health Forum
DESCRIPTION:
X-ALT-DESC;FMTTYPE=text/html:
LOCATION:
UID:e.3258.825
SEQUENCE:3
DTSTAMP:20260424T202244Z
URL:https://business.utahblackchamber.com/events/details/black-women-s-health-forum-825
END:VEVENT

END:VCALENDAR
