BEGIN:VCALENDAR
VERSION:2.0
PRODID:-//ChamberMaster//Event Calendar 2.0//EN
METHOD:PUBLISH
X-PUBLISHED-TTL:P3D
REFRESH-INTERVAL:P3D
CALSCALE:GREGORIAN
BEGIN:VEVENT
DTSTART:20181115T013000Z
DTEND:20181115T040000Z
X-MICROSOFT-CDO-ALLDAYEVENT:FALSE
SUMMARY:Boards & Commissions Boot Camp
DESCRIPTION:Learn how to join a non-profit board or government commissions. Learn the ins and outs of being an effective non-profit board member. Apply to join boards or commissions on spot. No experience required.
X-ALT-DESC;FMTTYPE=text/html:Learn how to join a non-profit board or government commissions. Learn the ins and outs of being an effective non-profit board member. Apply to join boards or commissions on spot. No experience required.
LOCATION:280 W 500 N\, Salt Lake City\, UT 84103
UID:e.3258.251
SEQUENCE:3
DTSTAMP:20260425T171435Z
URL:https://business.utahblackchamber.com/events/details/boards-commissions-boot-camp-251
END:VEVENT

END:VCALENDAR
