BEGIN:VCALENDAR
VERSION:2.0
PRODID:-//ChamberMaster//Event Calendar 2.0//EN
METHOD:PUBLISH
X-PUBLISHED-TTL:P3D
REFRESH-INTERVAL:P3D
CALSCALE:GREGORIAN
BEGIN:VEVENT
DTSTART:20241018T000000Z
DTEND:20241018T020000Z
X-MICROSOFT-CDO-ALLDAYEVENT:FALSE
SUMMARY:Brotha to Brotha Meetup and Photoshoot
DESCRIPTION:Brotha to Broth Meetup and Photoshoot
X-ALT-DESC;FMTTYPE=text/html:Brotha to Broth Meetup and Photoshoot
LOCATION:
UID:e.3258.810
SEQUENCE:3
DTSTAMP:20260424T222004Z
URL:https://business.utahblackchamber.com/events/details/brotha-to-brotha-meetup-and-photoshoot-810
END:VEVENT

END:VCALENDAR
