BEGIN:VCALENDAR
VERSION:2.0
PRODID:-//ChamberMaster//Event Calendar 2.0//EN
METHOD:PUBLISH
X-PUBLISHED-TTL:P3D
REFRESH-INTERVAL:P3D
CALSCALE:GREGORIAN
BEGIN:VEVENT
DTSTART:20200526T190000Z
DTEND:20200526T203000Z
X-MICROSOFT-CDO-ALLDAYEVENT:FALSE
SUMMARY:Business Essentials: Being Courageous In Your Life & Business
DESCRIPTION:Together we'll dive into how courage is the key element in building a life and business you love. You'll discover new ways to step outside your comfort zone\, how to use the tools you already have at your disposal\, and make more courageous choices that lead you closer to your dreams.
X-ALT-DESC;FMTTYPE=text/html:Together we&rsquo\;ll dive into how courage is the key element in building a life and business you love. You&rsquo\;ll discover new ways to step outside your comfort zone\, how to use the tools you already have at your disposal\, and make more courageous choices that lead you closer to your dreams.
LOCATION:Virtual\, registration is required to access the training.
UID:e.3258.469
SEQUENCE:3
DTSTAMP:20260424T145011Z
URL:https://business.utahblackchamber.com/events/details/business-essentials-being-courageous-in-your-life-business-469
END:VEVENT

END:VCALENDAR
