BEGIN:VCALENDAR
VERSION:2.0
PRODID:-//ChamberMaster//Event Calendar 2.0//EN
METHOD:PUBLISH
X-PUBLISHED-TTL:P3D
REFRESH-INTERVAL:P3D
CALSCALE:GREGORIAN
BEGIN:VEVENT
DTSTART:20191219T160000Z
DTEND:20191219T170000Z
X-MICROSOFT-CDO-ALLDAYEVENT:FALSE
SUMMARY:Coffee with Clancy: Making Intellectual Property an Asset for Business Growth
DESCRIPTION:Are you in need of business advice but haven't been able to meet with Clancy in our office? Are you looking to expand your network and kickstart your morning with a great conversation with other entrepreneurs? Do you need an excuse to grab some coffee\, hot chocolate or a croissant? You're in luck because we are bringing Clancy and a handful of business experts to you! Every other Thursday\, Clancy will be at a local coffee shop with a business expert and will host a casual round table discussion on an entrepreneurial topic. This is the time to bring a lot of questions and sit down with our experts so you can get the answers and guidance you need for your entrepreneurial success! October 10: Branding Your Business October 24: Tips on Becoming a Successful Public Speaker November 7: Human Resources & Management November 21: Know your Finances- Projections & Operating Cashflow December 5: Investment December 19: Making Intellectual Property an Asset for Business Growth
X-ALT-DESC;FMTTYPE=text/html:Are you in need of business advice but haven&rsquo\;t been able to meet with Clancy in our office? Are you looking to expand your network and kickstart your morning with a great conversation with other entrepreneurs? Do you need an excuse to grab some coffee\, hot chocolate or a croissant? You&rsquo\;re in luck because we are bringing Clancy and a handful of business experts to you! Every other Thursday\, Clancy will be at a local coffee shop with a business expert and will host a casual round table discussion on an entrepreneurial topic. This is the time to bring a lot of questions and sit down with our experts so you can get the answers and guidance you need for your entrepreneurial success! October 10: Branding Your Business October 24: Tips on Becoming a Successful Public Speaker November 7: Human Resources &amp\; Management November 21: Know your Finances- Projections &amp\; Operating Cashflow December 5: Investment December 19: Making Intellectual Property an Asset for Business Growth
LOCATION:Publik Coffee Roasters 975 S W Temple\, Salt Lake City\, UT 84101
UID:e.3258.391
SEQUENCE:3
DTSTAMP:20260424T223805Z
URL:https://business.utahblackchamber.com/events/details/coffee-with-clancy-making-intellectual-property-an-asset-for-business-growth-391
END:VEVENT

END:VCALENDAR
