BEGIN:VCALENDAR
VERSION:2.0
PRODID:-//ChamberMaster//Event Calendar 2.0//EN
METHOD:PUBLISH
X-PUBLISHED-TTL:P3D
REFRESH-INTERVAL:P3D
CALSCALE:GREGORIAN
BEGIN:VEVENT
DTSTART:20180824T230000Z
DTEND:20180825T040000Z
X-MICROSOFT-CDO-ALLDAYEVENT:FALSE
SUMMARY:Community BBQ & Expo
DESCRIPTION:Entertainment for the whole family!\n\n\n\nVisit vendors from 5:00 - 7:00 PM\, while enjoying delicious free BBQ provided by Miss Essie's Southern BBQ. Bounce house will be provided for the kids and a DJ for music and dancing!\n\n\n\nAt 7:30\, we will be collaborating with Excellence in the Community for an incredible Motown Show given by Changing Lanes Entertainment. You can still enjoy BBQ for purchase during this time as well. \n\n\n\nBe sure to come hungry and bring your dancing shoes for a huge party in downtown Salt Lake City!
X-ALT-DESC;FMTTYPE=text/html:<span style="font-size:14px\;"><span style="font-family:comic sans ms\;"><span style="font-style: normal\; font-variant-ligatures: normal\; font-variant-caps: normal\; font-weight: 400\; letter-spacing: 0.5px\; orphans: 2\; text-align: start\; text-indent: 0px\; text-transform: none\; white-space: normal\; widows: 2\; word-spacing: 0px\; -webkit-text-stroke-width: 0px\; background-color: rgb(255\, 255\, 255)\; float: none\; display: inline !important\;">Entertainment for the whole family!<br />\n<br />\nVisit vendors from 5:00 - 7:00 PM\, while enjoying delicious free BBQ provided by <a href="https://missessiesbbq.com">Miss Essie&#39\;s Southern BBQ</a>. Bounce house will be provided for the kids and a DJ for music and dancing!</span><br />\n<br />\nAt 7:30\, we will be collaborating with <a href="http://excellenceconcerts.org">Excellence in the Community</a> for an incredible Motown Show given by <a href="http://changinglanesband.com">Changing Lanes Entertainment</a>. You can still enjoy BBQ for purchase during this time as well.&nbsp\;<br />\n<br />\nBe sure to come hungry and bring your dancing shoes for a huge party in downtown Salt Lake City!</span></span>
LOCATION:Gallivan Center 239 Main Street Salt Lake City\, UT 84111
UID:e.3258.210
SEQUENCE:3
DTSTAMP:20260425T213818Z
URL:https://business.utahblackchamber.com/events/details/community-bbq-expo-210
END:VEVENT

END:VCALENDAR
