BEGIN:VCALENDAR
VERSION:2.0
PRODID:-//ChamberMaster//Event Calendar 2.0//EN
METHOD:PUBLISH
X-PUBLISHED-TTL:P3D
REFRESH-INTERVAL:P3D
CALSCALE:GREGORIAN
BEGIN:VEVENT
DTSTART:20181025T150000Z
DTEND:20181025T163000Z
X-MICROSOFT-CDO-ALLDAYEVENT:FALSE
SUMMARY:Creating Great Digital Marketing on a Small Budget
DESCRIPTION:If you're a small business owner trying to manage social media accounts can be daunting.  Come learn about the foundation of creating impactful digital media content\, what to post when\, and tips and tricks that will help you reach your target market. \n\n\n\nEmily has been in business for over 7 years and has sold at least $40K/year worth of products working 5-10 hours a week.  Digital marketing strategically is how she does it! See you there! \n\n\n\nMeet our speaker Emily Ashby! \n\nEmily loves the scrappy side of small business. Strategy is one of her biggest strengths and as a small business consultant she loves helping locals grow their businesses.  She has her MA in Community Leadership\, loves the nachos at the Porcupine Grill\, and cuddling puppies.
X-ALT-DESC;FMTTYPE=text/html:<span style="color:rgb(116\, 116\, 116)\; font-family:arial\; font-size:14px">If you&rsquo\;re a small business owner trying to manage social media accounts can be daunting.&nbsp\; Come learn about the foundation of creating impactful digital media content\, what to post when\, and tips and tricks that will help you reach your target market.&nbsp\;</span><br />\n<br />\n<span style="color:rgb(116\, 116\, 116)\; font-family:arial\; font-size:14px">Emily</span><span style="color:rgb(116\, 116\, 116)\; font-family:arial\; font-size:14px">&nbsp\;has been in business for over 7 years and has sold at least $40K/year worth of products working 5-10 hours a week.&nbsp\; Digital marketing strategically is how she does it! See you there!&nbsp\;</span><br />\n<br />\n<span style="color:rgb(116\, 116\, 116)\; font-family:arial\,helvetica\,sans-serif\; font-size:14px"><span style="color:inherit\; font-family:arial\; font-size:inherit"><strong><span style="color:inherit\; font-family:inherit\; font-size:inherit">Meet our speaker Emily Ashby!&nbsp\;</span></strong><br />\n<span style="color:inherit">Emily</span>&nbsp\;loves the scrappy side of small business. Strategy is one of her biggest strengths and as a small business consultant she loves helping locals grow their businesses.&nbsp\; She has her MA in Community Leadership\, loves the nachos at the Porcupine Grill\, and cuddling puppies.&nbsp\;</span></span><br />\n&nbsp\;
LOCATION:Women's Business Center 175 East 400 South\, Suite 600 Salt Lake City\, Utah 84111 United States
UID:e.3258.249
SEQUENCE:3
DTSTAMP:20260425T184634Z
URL:https://business.utahblackchamber.com/events/details/creating-great-digital-marketing-on-a-small-budget-249
END:VEVENT

END:VCALENDAR
