BEGIN:VCALENDAR
VERSION:2.0
PRODID:-//ChamberMaster//Event Calendar 2.0//EN
METHOD:PUBLISH
X-PUBLISHED-TTL:P3D
REFRESH-INTERVAL:P3D
CALSCALE:GREGORIAN
BEGIN:VEVENT
DTSTART:20191207T010000Z
DTEND:20191207T030000Z
X-MICROSOFT-CDO-ALLDAYEVENT:FALSE
SUMMARY:December First Friday
DESCRIPTION:Join us as we wrap up 2019 and go in 2020! We will have some new announcements about events and programs happening in 2020 to elevate Utah's Black Community. \n\n\n\nCome celebrate with us as we enter in to 2020 with a purposeful vision!\n\n\n\nFood and drinks will be provided!
X-ALT-DESC;FMTTYPE=text/html:Join us as we wrap up 2019 and go in 2020! We will have some new announcements about events and programs happening in 2020 to elevate Utah&#39\;s Black Community.&nbsp\;<br />\n<br />\nCome celebrate with us as we enter in to 2020 with a purposeful vision!<br />\n<br />\nFood and drinks will be provided!<br />\n<br />\n&nbsp\;
LOCATION:Instructure 6330 South 3000 East Unit 300 Salt Lake City\, UT 84121
UID:e.3258.397
SEQUENCE:3
DTSTAMP:20260424T221830Z
URL:https://business.utahblackchamber.com/events/details/december-first-friday-397
END:VEVENT

END:VCALENDAR
