BEGIN:VCALENDAR
VERSION:2.0
PRODID:-//ChamberMaster//Event Calendar 2.0//EN
METHOD:PUBLISH
X-PUBLISHED-TTL:P3D
REFRESH-INTERVAL:P3D
CALSCALE:GREGORIAN
BEGIN:VEVENT
DTSTART:20180417T170000Z
DTEND:20180417T210000Z
X-MICROSOFT-CDO-ALLDAYEVENT:FALSE
SUMMARY:Diversity Career Fair - CANCELLED
DESCRIPTION:Welcome to the second annual Diversity Career Fair!\n\nIn partnership with our corporate sponsors as well as the support of the Ethnic Chambers of Commerce\, we are pleased to provide another great career fair.\n\nThank you to our Gold Sponsor\, L3 Technologies\, our Silver Sponsor Zions Bank\, and our Bronze Sponsors NativeAmericanJobs.com\, EnerbankUSA\, Progrexion\, and Goldman Sachs!\n\nLast year's company particpants included:\n\n\n	All Trades Staffing\n	American Family Insurance\n	BlueRaven Solar\n	Department of Workforce Services\n	eBay\n	Edward Jones\n	Enterprise Rental Cars\n	FedEx\n	Goldman Sachs\n	Hill Air Force Base\n	IHC\n	Jan-Pro\n	Kelly Services\n	L3 Technologies\n	Larry Miller Sports & Entertainment\n	Orbital ATK\n	Park City Resort\n	Pepsico\n	Progressive Leasing\n	Progexion\n	Prudential Leasing\n	SLCC\n	Salt Lake County\n	SKF\n	SLC Library\n	Spherion\n	StubHub\n	Sutter Physician Services\n	Synergy Staffing\n	Teleperformance\n	The Home Depot\n	University of Utah\n	UPS\n	Verizon\n	Walmart Logistics\n	Wells Fargo Bank\n	Zions Bank
X-ALT-DESC;FMTTYPE=text/html:<p style="margin: 0px\; padding: 0px\; color: rgb(102\, 106\, 115)\; font-family: &quot\;Benton Sans&quot\;\, &quot\;Helvetica Neue&quot\;\, Helvetica\, Roboto\, Arial\, sans-serif\; font-size: 15px\; letter-spacing: 0.5px\;">Welcome to the second annual Diversity Career Fair!</p>\n\n<p style="margin: 0px\; padding: 10px 0px 0px\; color: rgb(102\, 106\, 115)\; font-family: &quot\;Benton Sans&quot\;\, &quot\;Helvetica Neue&quot\;\, Helvetica\, Roboto\, Arial\, sans-serif\; font-size: 15px\; letter-spacing: 0.5px\;">In partnership with our corporate sponsors as well as the support of the Ethnic Chambers of Commerce\, we are pleased to provide another great career fair.</p>\n\n<p style="margin: 0px\; padding: 10px 0px 0px\; color: rgb(102\, 106\, 115)\; font-family: &quot\;Benton Sans&quot\;\, &quot\;Helvetica Neue&quot\;\, Helvetica\, Roboto\, Arial\, sans-serif\; font-size: 15px\; letter-spacing: 0.5px\;">Thank you to our Gold Sponsor\, L3 Technologies\, our Silver Sponsor Zions Bank\, and our Bronze Sponsors NativeAmericanJobs.com\, EnerbankUSA\, Progrexion\, and Goldman Sachs!</p>\n\n<p style="margin: 0px\; padding: 10px 0px 0px\; color: rgb(102\, 106\, 115)\; font-family: &quot\;Benton Sans&quot\;\, &quot\;Helvetica Neue&quot\;\, Helvetica\, Roboto\, Arial\, sans-serif\; font-size: 15px\; letter-spacing: 0.5px\;"><span style="font-weight: 700\; padding-top: 0px\;">Last year&#39\;s company particpants included:</span></p>\n\n<ul style="margin: 0px\; padding-top: 10px\; padding-right: 0px\; padding-left: 2em\; list-style-position: initial\; list-style-image: initial\; color: rgb(102\, 106\, 115)\; font-family: &quot\;Benton Sans&quot\;\, &quot\;Helvetica Neue&quot\;\, Helvetica\, Roboto\, Arial\, sans-serif\; font-size: 15px\; letter-spacing: 0.5px\;">\n	<li style="margin: 0px\; padding: 0px\;">All Trades Staffing</li>\n	<li style="margin: 0px\; padding: 5px 0px 0px\;">American Family Insurance</li>\n	<li style="margin: 0px\; padding: 5px 0px 0px\;">BlueRaven Solar</li>\n	<li style="margin: 0px\; padding: 5px 0px 0px\;">Department of Workforce Services</li>\n	<li style="margin: 0px\; padding: 5px 0px 0px\;">eBay</li>\n	<li style="margin: 0px\; padding: 5px 0px 0px\;">Edward Jones</li>\n	<li style="margin: 0px\; padding: 5px 0px 0px\;">Enterprise Rental Cars</li>\n	<li style="margin: 0px\; padding: 5px 0px 0px\;">FedEx</li>\n	<li style="margin: 0px\; padding: 5px 0px 0px\;">Goldman Sachs</li>\n	<li style="margin: 0px\; padding: 5px 0px 0px\;">Hill Air Force Base</li>\n	<li style="margin: 0px\; padding: 5px 0px 0px\;">IHC</li>\n	<li style="margin: 0px\; padding: 5px 0px 0px\;">Jan-Pro</li>\n	<li style="margin: 0px\; padding: 5px 0px 0px\;">Kelly Services</li>\n	<li style="margin: 0px\; padding: 5px 0px 0px\;">L3 Technologies</li>\n	<li style="margin: 0px\; padding: 5px 0px 0px\;">Larry Miller Sports &amp\; Entertainment</li>\n	<li style="margin: 0px\; padding: 5px 0px 0px\;">Orbital ATK</li>\n	<li style="margin: 0px\; padding: 5px 0px 0px\;">Park City Resort</li>\n	<li style="margin: 0px\; padding: 5px 0px 0px\;">Pepsico</li>\n	<li style="margin: 0px\; padding: 5px 0px 0px\;">Progressive Leasing</li>\n	<li style="margin: 0px\; padding: 5px 0px 0px\;">Progexion</li>\n	<li style="margin: 0px\; padding: 5px 0px 0px\;">Prudential Leasing</li>\n	<li style="margin: 0px\; padding: 5px 0px 0px\;">SLCC</li>\n	<li style="margin: 0px\; padding: 5px 0px 0px\;">Salt Lake County</li>\n	<li style="margin: 0px\; padding: 5px 0px 0px\;">SKF</li>\n	<li style="margin: 0px\; padding: 5px 0px 0px\;">SLC Library</li>\n	<li style="margin: 0px\; padding: 5px 0px 0px\;">Spherion</li>\n	<li style="margin: 0px\; padding: 5px 0px 0px\;">StubHub</li>\n	<li style="margin: 0px\; padding: 5px 0px 0px\;">Sutter Physician Services</li>\n	<li style="margin: 0px\; padding: 5px 0px 0px\;">Synergy Staffing</li>\n	<li style="margin: 0px\; padding: 5px 0px 0px\;">Teleperformance</li>\n	<li style="margin: 0px\; padding: 5px 0px 0px\;">The Home Depot</li>\n	<li style="margin: 0px\; padding: 5px 0px 0px\;">University of Utah</li>\n	<li style="margin: 0px\; padding: 5px 0px 0px\;">UPS</li>\n	<li style="margin: 0px\; padding: 5px 0px 0px\;">Verizon</li>\n	<li style="margin: 0px\; padding: 5px 0px 0px\;">Walmart Logistics</li>\n	<li style="margin: 0px\; padding: 5px 0px 0px\;">Wells Fargo Bank</li>\n	<li style="margin: 0px\; padding: 5px 0px 0px\;">Zions Bank</li>\n</ul>\n
LOCATION:Utah Cultural Celebration Center 1355 West 3100 South West Valley City\, UT 84119
UID:e.3258.213
SEQUENCE:3
DTSTAMP:20260426T030735Z
URL:https://business.utahblackchamber.com/events/details/diversity-career-fair-cancelled-213
END:VEVENT

END:VCALENDAR
