BEGIN:VCALENDAR
VERSION:2.0
PRODID:-//ChamberMaster//Event Calendar 2.0//EN
METHOD:PUBLISH
X-PUBLISHED-TTL:P3D
REFRESH-INTERVAL:P3D
CALSCALE:GREGORIAN
BEGIN:VEVENT
DTSTART:20200916T190000Z
DTEND:20200916T200000Z
X-MICROSOFT-CDO-ALLDAYEVENT:FALSE
SUMMARY:Financial Foundations: Taking Control of Your Financial Future
DESCRIPTION:Do numbers\, especially in business\, make you nervous? We are introducing our finance series\, which will cover financial concepts you need to understand to run a successful and profitable business. Each session will cover a finance topic led by one of our female experts. Class size is limited to 20 people\, so you can get the most out of your session! This workshop will cover the following: Know your unique life circumstances Acknowledge your money mentality Understand your saving and spending tendencies Plan for today\, tomorrow and beyond
X-ALT-DESC;FMTTYPE=text/html:Do numbers\, especially in business\, make you nervous? We are introducing our finance series\, which will cover financial concepts you need to understand to run a successful and profitable business. Each session will cover a finance topic led by one of our female experts. Class size is limited to 20 people\, so you can get the most out of your session! This workshop will cover the following: Know your unique life circumstances Acknowledge your money mentality Understand your saving and spending tendencies Plan for today\, tomorrow and beyond
LOCATION:Virtual This training is available statewide.
UID:e.3258.496
SEQUENCE:3
DTSTAMP:20260424T095849Z
URL:https://business.utahblackchamber.com/events/details/financial-foundations-taking-control-of-your-financial-future-496
END:VEVENT

END:VCALENDAR
