BEGIN:VCALENDAR
VERSION:2.0
PRODID:-//ChamberMaster//Event Calendar 2.0//EN
METHOD:PUBLISH
X-PUBLISHED-TTL:P3D
REFRESH-INTERVAL:P3D
CALSCALE:GREGORIAN
BEGIN:VEVENT
DTSTART:20180908T000000Z
DTEND:20180908T020000Z
X-MICROSOFT-CDO-ALLDAYEVENT:FALSE
SUMMARY:First Friday: Rooftop After-Hours Mixer
DESCRIPTION:Join us for an evening of networking on the rooftop of the historic Cliff Building in Downtown Salt Lake City! This event is sponsored by Industrious\, and all proceeds will benefit Big Brothers Big Sisters of Utah! Come out and enjoy some food\, beverages\, DJ\, and more!
X-ALT-DESC;FMTTYPE=text/html:<span style="caret-color: rgb(0\, 0\, 0)\; color: rgb(0\, 0\, 0)\; font-family: -webkit-standard\; font-size: medium\;">Join us for an evening of networking on the rooftop of the historic Cliff Building in Downtown Salt Lake City! This event is sponsored by Industrious\, and all proceeds will benefit&nbsp\;</span><a href="https://bbbsu.org" style="font-family: -webkit-standard\;" target="_blank">Big Brothers Big Sisters of Utah</a><span style="caret-color: rgb(0\, 0\, 0)\; color: rgb(0\, 0\, 0)\; font-family: -webkit-standard\; font-size: medium\;">! Come out and enjoy some food\, beverages\, DJ\, and more!</span>
LOCATION:Industrious 10 West Broadway 9th Floor Salt Lake City\, UT 84101
UID:e.3258.236
SEQUENCE:3
DTSTAMP:20260425T200647Z
URL:https://business.utahblackchamber.com/events/details/first-friday-rooftop-after-hours-mixer-236
END:VEVENT

END:VCALENDAR
