BEGIN:VCALENDAR
VERSION:2.0
PRODID:-//ChamberMaster//Event Calendar 2.0//EN
METHOD:PUBLISH
X-PUBLISHED-TTL:P3D
REFRESH-INTERVAL:P3D
CALSCALE:GREGORIAN
BEGIN:VEVENT
DTSTART;VALUE=DATE:20241017
DTEND;VALUE=DATE:20241023
TRANSP:TRANSPARENT
X-MICROSOFT-CDO-ALLDAYEVENT:TRUE
SUMMARY:GDEI Trade Mission to the Caribbean Region
DESCRIPTION:November 17-18\, 2024 - Santo Domingo\, Dominican Republic\n\n\n\nThe United States Department of Commerce's U.S. Commercial Service invites you to the Global Diversity Export Initiative (GDEI) Opportunities for Minority-Led Businesses in the Caribbean Region Conference in Santo Domingo\, Dominican Republic on November 17-18\, 2024.\n\n\n\nIdeal for any company seeking opportunities in the Americas\, this unique business conference  - held Santo Domingo\, Dominican Republic - offers you the opportunity to meet and network with U.S. Commercial and Economic Officers from 10 countries in the region as well as key trade related service providers.\n\n\n\n\n\nParticipants will engage in regional market briefings\; two networking receptions\; four plenary session presentations\; two networking lunches\, and five export related workshops.\n\n\n\nLearn more: https://utahblackchamber.us9.list-manage.com/track/click?u=6baea3c2fdaff8920ec689b02&id=4fa422b612&e=a7d74d02db
X-ALT-DESC;FMTTYPE=text/html:November 17-18\, 2024 - Santo Domingo\, Dominican Republic<br />\n<br />\nThe United States Department of Commerce&rsquo\;s U.S. Commercial Service invites you to the Global Diversity Export Initiative (GDEI) Opportunities for Minority-Led Businesses in the Caribbean Region Conference in Santo Domingo\, Dominican Republic on November 17-18\, 2024.<br />\n<br />\nIdeal for any company seeking opportunities in the Americas\, this unique business conference&nbsp\; - held Santo Domingo\, Dominican Republic - offers you the opportunity to meet and network with U.S. Commercial and Economic Officers from 10 countries in the region as well as key trade related service providers.<br />\n<br />\n<br />\nParticipants will engage in regional market briefings\; two networking receptions\; four plenary session presentations\; two networking lunches\, and five export related workshops.<br />\n<br />\nLearn more:&nbsp\;https://utahblackchamber.us9.list-manage.com/track/click?u=6baea3c2fdaff8920ec689b02&amp\;id=4fa422b612&amp\;e=a7d74d02db<br />\n&nbsp\;
LOCATION:
UID:e.3258.815
SEQUENCE:3
DTSTAMP:20260424T214106Z
URL:https://business.utahblackchamber.com/events/details/gdei-trade-mission-to-the-caribbean-region-815
END:VEVENT

END:VCALENDAR
