BEGIN:VCALENDAR
VERSION:2.0
PRODID:-//ChamberMaster//Event Calendar 2.0//EN
METHOD:PUBLISH
X-PUBLISHED-TTL:P3D
REFRESH-INTERVAL:P3D
CALSCALE:GREGORIAN
BEGIN:VEVENT
DTSTART:20181201T010000Z
DTEND:20181201T030000Z
X-MICROSOFT-CDO-ALLDAYEVENT:FALSE
SUMMARY:Holiday Social
DESCRIPTION:Join us for the last event of the year! Early bird tickets for our Evening in Harlem will be on sale. More details to come!
X-ALT-DESC;FMTTYPE=text/html:Join us for the last event of the year! Early bird tickets for our Evening in Harlem will be on sale. More details to come!
LOCATION:Kimi's Chop & Oyster House 2155 S Highland Dr\, Salt Lake City\, UT 84106
UID:e.3258.260
SEQUENCE:3
DTSTAMP:20260425T171159Z
URL:https://business.utahblackchamber.com/events/details/holiday-social-260
END:VEVENT

END:VCALENDAR
