BEGIN:VCALENDAR
VERSION:2.0
PRODID:-//ChamberMaster//Event Calendar 2.0//EN
METHOD:PUBLISH
X-PUBLISHED-TTL:P3D
REFRESH-INTERVAL:P3D
CALSCALE:GREGORIAN
BEGIN:VEVENT
DTSTART:20250104T010000Z
DTEND:20250104T040000Z
X-MICROSOFT-CDO-ALLDAYEVENT:FALSE
SUMMARY:January First Friday 2025
DESCRIPTION:Join us for an evening of purposeful connections at the Utah Black Chamber Networking Event\, where entrepreneurs\, business owners\, professionals\, and community leaders come together to share insights\, forge partnerships\, and celebrate our collective growth. This event offers a welcoming atmosphere to engage with like-minded individuals across industries\, discover new opportunities\, and build relationships that support Utah's thriving business ecosystem.\n\nAttendees will enjoy light refreshments\, a brief program featuring local business success stories\, and time to engage in meaningful conversations. Whether you're looking to expand your network\, learn about the latest trends\, or find new ways to collaborate\, this event is designed to empower and inspire Utah's diverse business community.\n\nEvent Highlights:\n\n\n	Mix and mingle with industry leaders and rising professionals\n	Gain insights from member spotlights and Chamber initiatives\n	\n	Discover new resources\, partnerships\, and ways to elevate your business
X-ALT-DESC;FMTTYPE=text/html:<div data-olk-copy-source="MessageBody" style="border: 0px\; font-variant-numeric: inherit\; font-variant-east-asian: inherit\; font-variant-alternates: inherit\; font-variant-position: inherit\; font-variant-emoji: inherit\; font-stretch: inherit\; font-size: 12pt\; line-height: inherit\; font-family: Calibri\, Helvetica\, sans-serif\; font-optical-sizing: inherit\; font-size-adjust: inherit\; font-kerning: inherit\; font-feature-settings: inherit\; font-variation-settings: inherit\; margin: 1em 0px\; padding: 0px\; vertical-align: baseline\; color: black !important\;">Join us for an evening of purposeful connections at the Utah Black Chamber Networking Event\, where entrepreneurs\, business owners\, professionals\, and community leaders come together to share insights\, forge partnerships\, and celebrate our collective growth. This event offers a welcoming atmosphere to engage with like-minded individuals across industries\, discover new opportunities\, and build relationships that support Utah&rsquo\;s thriving business ecosystem.</div>\n\n<div style="border: 0px\; font-variant-numeric: inherit\; font-variant-east-asian: inherit\; font-variant-alternates: inherit\; font-variant-position: inherit\; font-variant-emoji: inherit\; font-stretch: inherit\; font-size: 12pt\; line-height: inherit\; font-family: Calibri\, Helvetica\, sans-serif\; font-optical-sizing: inherit\; font-size-adjust: inherit\; font-kerning: inherit\; font-feature-settings: inherit\; font-variation-settings: inherit\; margin: 1em 0px\; padding: 0px\; vertical-align: baseline\; color: black !important\;">Attendees will enjoy light refreshments\, a brief program featuring local business success stories\, and time to engage in meaningful conversations. Whether you&rsquo\;re looking to expand your network\, learn about the latest trends\, or find new ways to collaborate\, this event is designed to empower and inspire Utah&#39\;s diverse business community.</div>\n\n<div style="border: 0px\; font-variant-numeric: inherit\; font-variant-east-asian: inherit\; font-variant-alternates: inherit\; font-variant-position: inherit\; font-variant-emoji: inherit\; font-stretch: inherit\; font-size: 12pt\; line-height: inherit\; font-family: Calibri\, Helvetica\, sans-serif\; font-optical-sizing: inherit\; font-size-adjust: inherit\; font-kerning: inherit\; font-feature-settings: inherit\; font-variation-settings: inherit\; margin: 1em 0px\; padding: 0px\; vertical-align: baseline\; color: black !important\;"><b>Event Highlights:</b></div>\n\n<ul style="color: rgb(36\, 36\, 36)\; font-family: &quot\;Segoe UI&quot\;\, &quot\;Segoe UI Web (West European)&quot\;\, -apple-system\, BlinkMacSystemFont\, Roboto\, &quot\;Helvetica Neue&quot\;\, sans-serif\; font-size: 15px\;">\n	<li style="color: black !important\; font-size: 12pt\; font-family: Calibri\, Helvetica\, sans-serif\;">Mix and mingle with industry leaders and rising professionals</li>\n	<li style="color: black !important\; font-size: 12pt\; font-family: Calibri\, Helvetica\, sans-serif\;">Gain insights from member spotlights and Chamber initiatives</li>\n	<li style="color: black !important\; font-size: 12pt\; font-family: Calibri\, Helvetica\, sans-serif\;">\n	<div style="border: 0px\; font: inherit\; margin: 0px\; padding: 0px\; vertical-align: baseline\; color: inherit\;">Discover new resources\, partnerships\, and ways to elevate your business</div>\n	</li>\n</ul>\n<br />\n<br />\n<br />\n&nbsp\;
LOCATION:The Kiln - 26 S Rio Grande St. #2072\, Salt Lake City\, UT\, 84101
UID:e.3258.834
SEQUENCE:3
DTSTAMP:20260424T150336Z
URL:https://business.utahblackchamber.com/events/details/january-first-friday-2025-834
END:VEVENT

END:VCALENDAR
