BEGIN:VCALENDAR
VERSION:2.0
PRODID:-//ChamberMaster//Event Calendar 2.0//EN
METHOD:PUBLISH
X-PUBLISHED-TTL:P3D
REFRESH-INTERVAL:P3D
CALSCALE:GREGORIAN
BEGIN:VEVENT
DTSTART:20180411T003000Z
DTEND:20180411T033000Z
X-MICROSOFT-CDO-ALLDAYEVENT:FALSE
SUMMARY:Jazz Game After-Hours Mixer
DESCRIPTION:"Membership has its privileges."\n\nThis is our only event exclusive to our members. We have reserved a suite at the final home game against the Golden State Warriors. Enjoy unlimited food and beverages while networking and enjoying a great game in the newly renovated arena. Corporate members receive tickets as part of their benefits. If you are a Corporate Member\, simply email us the names of individuals who will be attending.
X-ALT-DESC;FMTTYPE=text/html:<p style="margin: 0px\; padding: 0px\; color: rgb(102\, 106\, 115)\; font-family: &quot\;Benton Sans&quot\;\, &quot\;Helvetica Neue&quot\;\, Helvetica\, Roboto\, Arial\, sans-serif\; font-size: 15px\; font-style: normal\; font-variant-ligatures: normal\; font-variant-caps: normal\; font-weight: 400\; letter-spacing: 0.5px\; orphans: 2\; text-align: start\; text-indent: 0px\; text-transform: none\; white-space: normal\; widows: 2\; word-spacing: 0px\; -webkit-text-stroke-width: 0px\; background-color: rgb(255\, 255\, 255)\; text-decoration-style: initial\; text-decoration-color: initial\;">&quot\;Membership has its privileges.&quot\;</p>\n\n<p style="margin: 0px\; padding: 10px 0px 0px\; color: rgb(102\, 106\, 115)\; font-family: &quot\;Benton Sans&quot\;\, &quot\;Helvetica Neue&quot\;\, Helvetica\, Roboto\, Arial\, sans-serif\; font-size: 15px\; font-style: normal\; font-variant-ligatures: normal\; font-variant-caps: normal\; font-weight: 400\; letter-spacing: 0.5px\; orphans: 2\; text-align: start\; text-indent: 0px\; text-transform: none\; white-space: normal\; widows: 2\; word-spacing: 0px\; -webkit-text-stroke-width: 0px\; background-color: rgb(255\, 255\, 255)\; text-decoration-style: initial\; text-decoration-color: initial\;">This is our only event exclusive to our members. We have reserved a suite at the final home game against the Golden State Warriors. Enjoy unlimited food and beverages while networking and enjoying a great game in the newly renovated arena. Corporate members receive tickets as part of their benefits. If you are a Corporate Member\, simply email us the names of individuals who will be attending.&nbsp\;</p>\n
LOCATION:Vivint Smart Home Arena 301 South Temple Salt Lake City\, UT 84101
UID:e.3258.3
SEQUENCE:3
DTSTAMP:20260426T025501Z
URL:https://business.utahblackchamber.com/events/details/jazz-game-after-hours-mixer-3
END:VEVENT

END:VCALENDAR
