BEGIN:VCALENDAR
VERSION:2.0
PRODID:-//ChamberMaster//Event Calendar 2.0//EN
METHOD:PUBLISH
X-PUBLISHED-TTL:P3D
REFRESH-INTERVAL:P3D
CALSCALE:GREGORIAN
BEGIN:VEVENT
DTSTART:20180718T173000Z
DTEND:20180718T190000Z
X-MICROSOFT-CDO-ALLDAYEVENT:FALSE
SUMMARY:July Networking Luncheon
DESCRIPTION:Join us for our Networking Luncheon!\n\nConnect with local business and community leaders while learning how to grow and build your business! The networking luncheon presents a 'Member Spotlight\;' a member of the chamber is recognized and is the featured presenter of the event.
X-ALT-DESC;FMTTYPE=text/html:<p style="margin: 0px\; padding: 0px\; color: rgb(102\, 106\, 115)\; font-family: &quot\;Benton Sans&quot\;\, &quot\;Helvetica Neue&quot\;\, Helvetica\, Roboto\, Arial\, sans-serif\; font-size: 15px\; font-style: normal\; font-variant-ligatures: normal\; font-variant-caps: normal\; font-weight: 400\; letter-spacing: 0.5px\; orphans: 2\; text-align: start\; text-indent: 0px\; text-transform: none\; white-space: normal\; widows: 2\; word-spacing: 0px\; -webkit-text-stroke-width: 0px\; background-color: rgb(255\, 255\, 255)\; text-decoration-style: initial\; text-decoration-color: initial\;"><span style="padding-top: 0px\;">Join us for our Networking Luncheon!</span></p>\n\n<p style="margin: 0px\; padding: 10px 0px 0px\; color: rgb(102\, 106\, 115)\; font-family: &quot\;Benton Sans&quot\;\, &quot\;Helvetica Neue&quot\;\, Helvetica\, Roboto\, Arial\, sans-serif\; font-size: 15px\; font-style: normal\; font-variant-ligatures: normal\; font-variant-caps: normal\; font-weight: 400\; letter-spacing: 0.5px\; orphans: 2\; text-align: start\; text-indent: 0px\; text-transform: none\; white-space: normal\; widows: 2\; word-spacing: 0px\; -webkit-text-stroke-width: 0px\; background-color: rgb(255\, 255\, 255)\; text-decoration-style: initial\; text-decoration-color: initial\;">Connect with local business and community leaders while learning how to grow and build your business! The networking luncheon presents a &#39\;Member Spotlight\;&#39\; a member of the chamber is recognized and is the featured presenter of the event.</p>\n
LOCATION:Wed\, July 18\, 2018 11:30 AM ? 1:00 PM MDT
UID:e.3258.5
SEQUENCE:3
DTSTAMP:20260425T225851Z
URL:https://business.utahblackchamber.com/events/details/july-networking-luncheon-5
END:VEVENT

END:VCALENDAR
