BEGIN:VCALENDAR
VERSION:2.0
PRODID:-//ChamberMaster//Event Calendar 2.0//EN
METHOD:PUBLISH
X-PUBLISHED-TTL:P3D
REFRESH-INTERVAL:P3D
CALSCALE:GREGORIAN
BEGIN:VEVENT
DTSTART:20241024T000000Z
DTEND:20241024T020000Z
X-MICROSOFT-CDO-ALLDAYEVENT:FALSE
SUMMARY:Let's Talk Suicide Awareness
DESCRIPTION:
X-ALT-DESC;FMTTYPE=text/html:
LOCATION:280 W 500 N\, Salt Lake City\, UT\, 84103
UID:e.3258.816
SEQUENCE:3
DTSTAMP:20260424T213323Z
URL:https://business.utahblackchamber.com/events/details/let-s-talk-suicide-awareness-816
END:VEVENT

END:VCALENDAR
