BEGIN:VCALENDAR
VERSION:2.0
PRODID:-//ChamberMaster//Event Calendar 2.0//EN
METHOD:PUBLISH
X-PUBLISHED-TTL:P3D
REFRESH-INTERVAL:P3D
CALSCALE:GREGORIAN
BEGIN:VEVENT
DTSTART:20180516T173000Z
DTEND:20180516T190000Z
X-MICROSOFT-CDO-ALLDAYEVENT:FALSE
SUMMARY:May Networking Luncheon - Mayor Jackie Biskpuski
DESCRIPTION:Join us for our Networking Luncheon!\n\nConnect with local business and community leaders while learning how to grow and build your business! The networking luncheon presents a 'Member Spotlight\;' a member of the chamber is recognized and is the featured presenter of the event.\n\n\n\nOur special guest speaker will be Mayor Jackie Biskupski!
X-ALT-DESC;FMTTYPE=text/html:<p style="margin: 0px\; padding: 0px\; color: rgb(102\, 106\, 115)\; font-family: &quot\;Benton Sans&quot\;\, &quot\;Helvetica Neue&quot\;\, Helvetica\, Roboto\, Arial\, sans-serif\; font-size: 15px\; font-style: normal\; font-variant-ligatures: normal\; font-variant-caps: normal\; font-weight: 400\; letter-spacing: 0.5px\; orphans: 2\; text-align: start\; text-indent: 0px\; text-transform: none\; white-space: normal\; widows: 2\; word-spacing: 0px\; -webkit-text-stroke-width: 0px\; background-color: rgb(255\, 255\, 255)\; text-decoration-style: initial\; text-decoration-color: initial\;"><span style="padding-top: 0px\;">Join us for our Networking Luncheon!</span></p>\n\n<p style="margin: 0px\; padding: 10px 0px 0px\; color: rgb(102\, 106\, 115)\; font-family: &quot\;Benton Sans&quot\;\, &quot\;Helvetica Neue&quot\;\, Helvetica\, Roboto\, Arial\, sans-serif\; font-size: 15px\; font-style: normal\; font-variant-ligatures: normal\; font-variant-caps: normal\; font-weight: 400\; letter-spacing: 0.5px\; orphans: 2\; text-align: start\; text-indent: 0px\; text-transform: none\; white-space: normal\; widows: 2\; word-spacing: 0px\; -webkit-text-stroke-width: 0px\; background-color: rgb(255\, 255\, 255)\; text-decoration-style: initial\; text-decoration-color: initial\;">Connect with local business and community leaders while learning how to grow and build your business! The networking luncheon presents a &#39\;Member Spotlight\;&#39\; a member of the chamber is recognized and is the featured presenter of the event.<br />\n<br />\nOur special guest speaker will be Mayor Jackie Biskupski!&nbsp\;</p>\n
LOCATION:KeyBank 36 South State Street 25th Floor Salt Lake City\, UT 84111
UID:e.3258.4
SEQUENCE:3
DTSTAMP:20260426T013211Z
URL:https://business.utahblackchamber.com/events/details/may-networking-luncheon-mayor-jackie-biskpuski-4
END:VEVENT

END:VCALENDAR
