BEGIN:VCALENDAR
VERSION:2.0
PRODID:-//ChamberMaster//Event Calendar 2.0//EN
METHOD:PUBLISH
X-PUBLISHED-TTL:P3D
REFRESH-INTERVAL:P3D
CALSCALE:GREGORIAN
BEGIN:VEVENT
DTSTART:20240928T013000Z
DTEND:20240928T030000Z
X-MICROSOFT-CDO-ALLDAYEVENT:FALSE
SUMMARY:Mental Health Matters
DESCRIPTION:A Utah BIPOC broadway cabaret fundraiser!
X-ALT-DESC;FMTTYPE=text/html:A Utah BIPOC broadway cabaret fundraiser!
LOCATION:West Valley Arts Center
UID:e.3258.808
SEQUENCE:3
DTSTAMP:20260424T221635Z
URL:https://business.utahblackchamber.com/events/details/mental-health-matters-808
END:VEVENT

END:VCALENDAR
