BEGIN:VCALENDAR
VERSION:2.0
PRODID:-//ChamberMaster//Event Calendar 2.0//EN
METHOD:PUBLISH
X-PUBLISHED-TTL:P3D
REFRESH-INTERVAL:P3D
CALSCALE:GREGORIAN
BEGIN:VEVENT
DTSTART:20241102T000000Z
DTEND:20241102T030000Z
X-MICROSOFT-CDO-ALLDAYEVENT:FALSE
SUMMARY:November First Friday - Thanksgiving Dinner 2024
DESCRIPTION:Join us for a Thanksgiving dinner! This is our time to say THANK YOU to our members\, partners\, supporters\, and community.
X-ALT-DESC;FMTTYPE=text/html:Join us for a Thanksgiving dinner!&nbsp\;This is our time to say THANK YOU to our members\, partners\, supporters\, and community.&nbsp\;&nbsp\;
LOCATION:Traegar Grill 533 S 400 W\, Salt Lake City\, UT\, 84101
UID:e.3258.811
SEQUENCE:3
DTSTAMP:20260424T194422Z
URL:https://business.utahblackchamber.com/events/details/november-first-friday-thanksgiving-dinner-2024-811
END:VEVENT

END:VCALENDAR
