BEGIN:VCALENDAR
VERSION:2.0
PRODID:-//ChamberMaster//Event Calendar 2.0//EN
METHOD:PUBLISH
X-PUBLISHED-TTL:P3D
REFRESH-INTERVAL:P3D
CALSCALE:GREGORIAN
BEGIN:VEVENT
DTSTART:20241005T010000Z
DTEND:20241005T040000Z
X-MICROSOFT-CDO-ALLDAYEVENT:FALSE
SUMMARY:October First Friday 2024 - Ole Skool Jam
DESCRIPTION:Join us for a fun-filled Ole Skool Jam! There will be food\, drinks\, and dancing. There will be an old-school dress-up contest and the best outfit gets a cash prize!
X-ALT-DESC;FMTTYPE=text/html:Join us for a fun-filled Ole Skool Jam! There will be food\, drinks\, and dancing. There will be an old-school dress-up contest and the best outfit gets a cash prize!
LOCATION:110 w. 600 s.\, SLC\, UT\, 84101
UID:e.3258.797
SEQUENCE:3
DTSTAMP:20260424T185725Z
URL:https://business.utahblackchamber.com/events/details/october-first-friday-2024-ole-skool-jam-797
END:VEVENT

END:VCALENDAR
