BEGIN:VCALENDAR
VERSION:2.0
PRODID:-//ChamberMaster//Event Calendar 2.0//EN
METHOD:PUBLISH
X-PUBLISHED-TTL:P3D
REFRESH-INTERVAL:P3D
CALSCALE:GREGORIAN
BEGIN:VEVENT
DTSTART:20241116T013000Z
DTEND:20241116T033000Z
X-MICROSOFT-CDO-ALLDAYEVENT:FALSE
SUMMARY:PROG Pitch Tank
DESCRIPTION:Mark your calendars for Nov. 15th for an exciting PROG Pitch Tank competition!
X-ALT-DESC;FMTTYPE=text/html:<strong style="color: rgb(0\, 0\, 0)\; font-family: &quot\;Helvetica Neue&quot\;\, Helvetica\, Arial\, Verdana\, sans-serif\; font-size: 16px\; text-align: center\;">Mark your calendars for Nov. 15th for an exciting PROG Pitch Tank competition!</strong>
LOCATION:
UID:e.3258.823
SEQUENCE:3
DTSTAMP:20260424T194401Z
URL:https://business.utahblackchamber.com/events/details/prog-pitch-tank-823
END:VEVENT

END:VCALENDAR
