BEGIN:VCALENDAR
VERSION:2.0
PRODID:-//ChamberMaster//Event Calendar 2.0//EN
METHOD:PUBLISH
X-PUBLISHED-TTL:P3D
REFRESH-INTERVAL:P3D
CALSCALE:GREGORIAN
BEGIN:VEVENT
DTSTART:20180510T233000Z
DTEND:20180511T013000Z
X-MICROSOFT-CDO-ALLDAYEVENT:FALSE
SUMMARY:Ribbon Cutting - Lakehouse Studios
DESCRIPTION:Join us for our first ribbon cutting! One of our Diamond Members\, Changing Lanes Entertainment\, has opened up their studios in Artspace! Lakehouse Studios is ready to do so much for the music community in Salt Lake City! Join us for some entertainment and light refreshments will be served.
X-ALT-DESC;FMTTYPE=text/html:Join us for our first ribbon cutting! One of our Diamond Members\, Changing Lanes Entertainment\, has opened up their studios in Artspace! Lakehouse&nbsp\;Studios is ready to do so much for the music community in Salt Lake City! Join us for some entertainment and light refreshments will be served.&nbsp\;&nbsp\;&nbsp\;&nbsp\;&nbsp\;&nbsp\;&nbsp\;&nbsp\;&nbsp\;
LOCATION:Lakehouse Studios Artspace 235 South 500 West #260 Salt Lake City\, UT 84101
UID:e.3258.220
SEQUENCE:3
DTSTAMP:20260426T011823Z
URL:https://business.utahblackchamber.com/events/details/ribbon-cutting-lakehouse-studios-220
END:VEVENT

END:VCALENDAR
