BEGIN:VCALENDAR
VERSION:2.0
PRODID:-//ChamberMaster//Event Calendar 2.0//EN
METHOD:PUBLISH
X-PUBLISHED-TTL:P3D
REFRESH-INTERVAL:P3D
CALSCALE:GREGORIAN
BEGIN:VEVENT
DTSTART:20241123T200000Z
DTEND:20241123T220000Z
X-MICROSOFT-CDO-ALLDAYEVENT:FALSE
SUMMARY:Salt Lake County Priorities Discussion
DESCRIPTION:FREE EVENT!! Key community leaders will discuss local priorities and the funding needed to address them in Salt Lake City.\n\n \n\nDon't miss your chance to hear from influential voices in your community\, moderated by Greg Hughes.\n\n \n\nRegister for FREE: https://www.eventbrite.com/.../priorities-for-salt-lake...\n\n \n\n23 November | 1-3 PM\n\nNorthwest Community Center\, 1255 West Clark Avenue
X-ALT-DESC;FMTTYPE=text/html:<p style="margin: 0px\; padding: 0px\; word-break: break-word\; color: rgb(0\, 0\, 0)\; font-family: &quot\;Helvetica Neue&quot\;\, Helvetica\, Arial\, Verdana\, sans-serif\; font-size: 16px\; line-height: 24px\; direction: ltr\;">FREE EVENT!! Key community leaders will discuss local priorities and the funding needed to address them in Salt Lake City.</p>\n\n<p style="margin: 0px\; padding: 0px\; word-break: break-word\; color: rgb(0\, 0\, 0)\; font-family: &quot\;Helvetica Neue&quot\;\, Helvetica\, Arial\, Verdana\, sans-serif\; font-size: 16px\; line-height: 24px\; direction: ltr\;">&nbsp\;</p>\n\n<p style="margin: 0px\; padding: 0px\; word-break: break-word\; color: rgb(0\, 0\, 0)\; font-family: &quot\;Helvetica Neue&quot\;\, Helvetica\, Arial\, Verdana\, sans-serif\; font-size: 16px\; line-height: 24px\; direction: ltr\;">Don&#39\;t miss your chance to hear from influential voices in your community\, moderated by Greg Hughes.</p>\n\n<p style="margin: 0px\; padding: 0px\; word-break: break-word\; color: rgb(0\, 0\, 0)\; font-family: &quot\;Helvetica Neue&quot\;\, Helvetica\, Arial\, Verdana\, sans-serif\; font-size: 16px\; line-height: 24px\; direction: ltr\;">&nbsp\;</p>\n\n<p style="margin: 0px\; padding: 0px\; word-break: break-word\; color: rgb(0\, 0\, 0)\; font-family: &quot\;Helvetica Neue&quot\;\, Helvetica\, Arial\, Verdana\, sans-serif\; font-size: 16px\; line-height: 24px\; direction: ltr\;">Register for FREE:&nbsp\;<a data-saferedirecturl="https://www.google.com/url?q=https://utahblackchamber.us9.list-manage.com/track/click?u%3D6baea3c2fdaff8920ec689b02%26id%3D012c28bfe4%26e%3Da7d74d02db&amp\;source=gmail&amp\;ust=1732062093638000&amp\;usg=AOvVaw2cw2GkwK0r2_iAxy86Idt3" href="https://utahblackchamber.us9.list-manage.com/track/click?u=6baea3c2fdaff8920ec689b02&amp\;id=012c28bfe4&amp\;e=a7d74d02db" style="color: rgb(6\, 65\, 222)\; word-break: break-word\; direction: ltr\;" target="_blank">https://www.eventbrite.com/...<wbr />/priorities-for-salt-lake...</a></p>\n\n<p style="margin: 0px\; padding: 0px\; word-break: break-word\; color: rgb(0\, 0\, 0)\; font-family: &quot\;Helvetica Neue&quot\;\, Helvetica\, Arial\, Verdana\, sans-serif\; font-size: 16px\; line-height: 24px\; direction: ltr\;">&nbsp\;</p>\n\n<p style="margin: 0px\; padding: 0px\; word-break: break-word\; color: rgb(0\, 0\, 0)\; font-family: &quot\;Helvetica Neue&quot\;\, Helvetica\, Arial\, Verdana\, sans-serif\; font-size: 16px\; line-height: 24px\; text-align: center\; direction: ltr\;">23 November | 1-3 PM</p>\n\n<p style="margin: 0px\; padding: 0px\; word-break: break-word\; color: rgb(0\, 0\, 0)\; font-family: &quot\;Helvetica Neue&quot\;\, Helvetica\, Arial\, Verdana\, sans-serif\; font-size: 16px\; line-height: 24px\; text-align: center\; direction: ltr\;">Northwest Community Center\, 1255 West Clark Avenue</p>\n
LOCATION:
UID:e.3258.829
SEQUENCE:3
DTSTAMP:20260424T194550Z
URL:https://business.utahblackchamber.com/events/details/salt-lake-county-priorities-discussion-829
END:VEVENT

END:VCALENDAR
