BEGIN:VCALENDAR
VERSION:2.0
PRODID:-//ChamberMaster//Event Calendar 2.0//EN
METHOD:PUBLISH
X-PUBLISHED-TTL:P3D
REFRESH-INTERVAL:P3D
CALSCALE:GREGORIAN
BEGIN:VEVENT
DTSTART:20180919T173000Z
DTEND:20180919T190000Z
X-MICROSOFT-CDO-ALLDAYEVENT:FALSE
SUMMARY:September Networking Luncheon
DESCRIPTION:Join us for our Networking Luncheon!\n\nConnect with local business and community leaders while learning how to grow and build your business! The networking luncheon presents a 'Member Spotlight\;' a member of the chamber is recognized and is the featured presenter of the event.
X-ALT-DESC;FMTTYPE=text/html:<p style="box-sizing: content-box\; margin: 0px\; padding: 0px\; border: none\; outline: 0px\; background-image: none\; background-position: initial\; background-size: initial\; background-repeat: initial\; background-attachment: initial\; background-origin: initial\; background-clip: initial\; font-size: 15px\; vertical-align: baseline\; bottom: auto\; clear: none\; color: rgb(102\, 106\, 115)\; content: normal\; direction: inherit\; empty-cells: show\; float: none\; font-variant-numeric: inherit\; font-variant-east-asian: inherit\; font-stretch: inherit\; font-family: &quot\;Benton Sans&quot\;\, &quot\;Helvetica Neue&quot\;\, Helvetica\, Roboto\, Arial\, sans-serif\; left: auto\; letter-spacing: 0.5px\; line-height: inherit\; max-height: none\; max-width: none\; min-height: initial\; min-width: initial\; opacity: 1\; outline-offset: 0px\; overflow: visible\; position: static\; resize: none\; right: auto\; table-layout: auto\; text-overflow: clip\; top: auto\; visibility: inherit\; word-break: inherit\; word-wrap: inherit\; z-index: auto\; border-collapse: separate\; border-radius: 0px\; height: auto\; width: auto\; box-shadow: none\;"><span style="box-sizing: content-box\; margin: 0px\; padding: 0px\; border: none\; outline: 0px\; background: none\; font: inherit\; vertical-align: baseline\; bottom: auto\; clear: none\; color: inherit\; content: normal\; direction: inherit\; empty-cells: show\; left: auto\; letter-spacing: inherit\; max-height: none\; max-width: none\; min-height: initial\; min-width: initial\; opacity: 1\; outline-offset: 0px\; overflow: visible\; position: static\; resize: none\; right: auto\; table-layout: auto\; text-align: inherit\; text-indent: inherit\; text-overflow: clip\; text-transform: inherit\; top: auto\; visibility: inherit\; white-space: inherit\; word-break: inherit\; word-spacing: inherit\; word-wrap: inherit\; z-index: auto\; border-collapse: separate\; border-radius: 0px\; height: auto\; width: auto\; box-shadow: none\;">Join us for our Networking Luncheon!</span></p>\n\n<p style="box-sizing: content-box\; margin: 0px\; padding: 10px 0px 0px\; border: none\; outline: 0px\; background-image: none\; background-position: initial\; background-size: initial\; background-repeat: initial\; background-attachment: initial\; background-origin: initial\; background-clip: initial\; font-size: 15px\; vertical-align: baseline\; bottom: auto\; clear: none\; color: rgb(102\, 106\, 115)\; content: normal\; direction: inherit\; empty-cells: show\; float: none\; font-variant-numeric: inherit\; font-variant-east-asian: inherit\; font-stretch: inherit\; font-family: &quot\;Benton Sans&quot\;\, &quot\;Helvetica Neue&quot\;\, Helvetica\, Roboto\, Arial\, sans-serif\; left: auto\; letter-spacing: 0.5px\; line-height: inherit\; max-height: none\; max-width: none\; min-height: initial\; min-width: initial\; opacity: 1\; outline-offset: 0px\; overflow: visible\; position: static\; resize: none\; right: auto\; table-layout: auto\; text-overflow: clip\; top: auto\; visibility: inherit\; word-break: inherit\; word-wrap: inherit\; z-index: auto\; border-collapse: separate\; border-radius: 0px\; height: auto\; width: auto\; box-shadow: none\;">Connect with local business and community leaders while learning how to grow and build your business! The networking luncheon presents a &#39\;Member Spotlight\;&#39\; a member of the chamber is recognized and is the featured presenter of the event.</p>\n
LOCATION:KeyBank 36 South State Street 25th Floor Salt Lake City\, UT 84111
UID:e.3258.234
SEQUENCE:3
DTSTAMP:20260425T194957Z
URL:https://business.utahblackchamber.com/events/details/september-networking-luncheon-234
END:VEVENT

END:VCALENDAR
