BEGIN:VCALENDAR
VERSION:2.0
PRODID:-//ChamberMaster//Event Calendar 2.0//EN
METHOD:PUBLISH
X-PUBLISHED-TTL:P3D
REFRESH-INTERVAL:P3D
CALSCALE:GREGORIAN
BEGIN:VEVENT
DTSTART:20241115T010000Z
DTEND:20241115T030000Z
X-MICROSOFT-CDO-ALLDAYEVENT:FALSE
SUMMARY:St. George - Friendsgiving Event
DESCRIPTION:Join us for a Friendsgiving to celebrate the season of thankfulness! Let's gather\, connect\, and share in gratitude with great food\, friends\, and unforgettable moments. Come ready to enjoy good company\, delicious bites\, and the spirit of community!
X-ALT-DESC;FMTTYPE=text/html:<span class="OYPEnA font-feature-liga-off font-feature-clig-off font-feature-calt-off text-decoration-none text-strikethrough-none" style="color: rgb(0\, 0\, 0)\; font-kerning: none\;">Join us for a Friendsgiving to celebrate the season of thankfulness! Let&rsquo\;s gather\, connect\, and share in gratitude with great food\, friends\, and unforgettable moments. Come ready to enjoy good company\, delicious bites\, and the spirit of community!</span>
LOCATION:136 N 100 E\, St. George\, UT
UID:e.3258.821
SEQUENCE:3
DTSTAMP:20260424T194453Z
URL:https://business.utahblackchamber.com/events/details/st-george-friendsgiving-event-821
END:VEVENT

END:VCALENDAR
