BEGIN:VCALENDAR
VERSION:2.0
PRODID:-//ChamberMaster//Event Calendar 2.0//EN
METHOD:PUBLISH
X-PUBLISHED-TTL:P3D
REFRESH-INTERVAL:P3D
CALSCALE:GREGORIAN
BEGIN:VEVENT
DTSTART:20241016T173000Z
DTEND:20241016T200000Z
X-MICROSOFT-CDO-ALLDAYEVENT:FALSE
SUMMARY:Thrive in the Hive
DESCRIPTION:Learn how to START\, OPTIMIZE\, & SELL businesses.
X-ALT-DESC;FMTTYPE=text/html:Learn how to START\, OPTIMIZE\, &amp\; SELL businesses.
LOCATION:
UID:e.3258.813
SEQUENCE:3
DTSTAMP:20260424T224759Z
URL:https://business.utahblackchamber.com/events/details/thrive-in-the-hive-813
END:VEVENT

END:VCALENDAR
