BEGIN:VCALENDAR
VERSION:2.0
PRODID:-//ChamberMaster//Event Calendar 2.0//EN
METHOD:PUBLISH
X-PUBLISHED-TTL:P3D
REFRESH-INTERVAL:P3D
CALSCALE:GREGORIAN
BEGIN:VEVENT
DTSTART:20241023T220000Z
DTEND:20241024T000000Z
X-MICROSOFT-CDO-ALLDAYEVENT:FALSE
SUMMARY:Utah MBC & LSI Contract Preparation & Procurement Readiness
DESCRIPTION:Free 6-week hybrid training course!
X-ALT-DESC;FMTTYPE=text/html:Free 6-week hybrid training course!
LOCATION:Webinar or in-person.
UID:e.3258.803
SEQUENCE:3
DTSTAMP:20260424T235600Z
URL:https://business.utahblackchamber.com/events/details/utah-mbc-lsi-contract-preparation-procurement-readiness-10-23-2024-803
END:VEVENT

END:VCALENDAR
