BEGIN:VCALENDAR
VERSION:2.0
PRODID:-//ChamberMaster//Event Calendar 2.0//EN
METHOD:PUBLISH
X-PUBLISHED-TTL:P3D
REFRESH-INTERVAL:P3D
CALSCALE:GREGORIAN
BEGIN:VEVENT
DTSTART:20200513T150000Z
DTEND:20200513T163000Z
X-MICROSOFT-CDO-ALLDAYEVENT:FALSE
SUMMARY:Virtual Coffee with Clancy: Creating Quality Branding for Your Target Audience
DESCRIPTION:Edee with engagemedia.co will discuss how to utilize social media platforms to elevate your brand and reach your target audience. I will be focusing on techniques to use Pinterest and Instagram to tell your brand?s story and reach a larger audience.
X-ALT-DESC;FMTTYPE=text/html:Edee with engagemedia.co will discuss how to utilize social media platforms to elevate your brand and reach your target audience. I will be focusing on techniques to use Pinterest and Instagram to tell your brand?s story and reach a larger audience.
LOCATION:Virtual\, you must register to receive the link
UID:e.3258.467
SEQUENCE:3
DTSTAMP:20260424T151058Z
URL:https://business.utahblackchamber.com/events/details/virtual-coffee-with-clancy-creating-quality-branding-for-your-target-audience-467
END:VEVENT

END:VCALENDAR
