BEGIN:VCALENDAR
VERSION:2.0
PRODID:-//ChamberMaster//Event Calendar 2.0//EN
METHOD:PUBLISH
X-PUBLISHED-TTL:P3D
REFRESH-INTERVAL:P3D
CALSCALE:GREGORIAN
BEGIN:VEVENT
DTSTART:20241109T000000Z
DTEND:20241109T010000Z
X-MICROSOFT-CDO-ALLDAYEVENT:FALSE
SUMMARY:Watch Party! About ByBlack Platform Informational Webinar
DESCRIPTION:Join us for a pre-recorded informational webinar on the ByBlack Platform \, the only national certification exclusively for Black-owned businesses. Learn how ByBlack connects certified businesses with new opportunities\, increases visibility\, and drives growth through powerful resources and networking. This session covers the certification process\, benefits\, and how to leverage ByBlack for your business success.
X-ALT-DESC;FMTTYPE=text/html:<span style="color: rgb(0\, 0\, 0)\; font-family: &quot\;Helvetica Neue&quot\;\, Helvetica\, Arial\, Verdana\, sans-serif\; font-size: 16px\;">Join us for a pre-recorded informational webinar on the ByBlack Platform&trade\;\, the only national certification exclusively for Black-owned businesses. Learn how ByBlack connects certified businesses with new opportunities\, increases visibility\, and drives growth through powerful resources and networking. This session covers the certification process\, benefits\, and how to leverage ByBlack for your business success.</span>
LOCATION:
UID:e.3258.824
SEQUENCE:3
DTSTAMP:20260424T201741Z
URL:https://business.utahblackchamber.com/events/details/watch-party-about-byblack-platform-informational-webinar-824
END:VEVENT

END:VCALENDAR
