BEGIN:VCALENDAR
VERSION:2.0
PRODID:-//ChamberMaster//Event Calendar 2.0//EN
METHOD:PUBLISH
X-PUBLISHED-TTL:P3D
REFRESH-INTERVAL:P3D
CALSCALE:GREGORIAN
BEGIN:VEVENT
DTSTART:20241120T180000Z
DTEND:20241120T190000Z
X-MICROSOFT-CDO-ALLDAYEVENT:FALSE
SUMMARY:Webinar: Secure a $25K USDA Grant for Marketing and Redevelopment Services in Rural Communities (2025)
DESCRIPTION:Webinar: Secure a $25K USDA Grant for Marketing and Redevelopment Services in Rural Communities (2025)\n\nNovember 20\, 2024 at 11:00am\n\nFree\n\n\n\nBoost your rural community's growth! Join our webinar on Nov 20 at 11 AM Central with Locable and DRS to learn about USDA grants for marketing and planning\n\n\n\nRegister here: https://utahblackchamber.us9.list-manage.com/track/click?u=6baea3c2fdaff8920ec689b02&id=e95c8ee0d5&e=a7d74d02db
X-ALT-DESC;FMTTYPE=text/html:Webinar: Secure a $25K USDA Grant for Marketing and Redevelopment Services in Rural Communities (2025)<br />\nNovember 20\, 2024 at 11:00am<br />\nFree<br />\n<br />\nBoost your rural community&rsquo\;s growth! Join our webinar on Nov 20 at 11 AM Central with Locable and DRS to learn about USDA grants for marketing and planning<br />\n<br />\nRegister here:&nbsp\;https://utahblackchamber.us9.list-manage.com/track/click?u=6baea3c2fdaff8920ec689b02&amp\;id=e95c8ee0d5&amp\;e=a7d74d02db
LOCATION:
UID:e.3258.830
SEQUENCE:3
DTSTAMP:20260424T194933Z
URL:https://business.utahblackchamber.com/events/details/webinar-secure-a-25k-usda-grant-for-marketing-and-redevelopment-services-in-rural-communities-2025-830
END:VEVENT

END:VCALENDAR
